BEGIN:VCALENDAR
VERSION:2.0
PRODID:-//ChamberMaster//Event Calendar 2.0//EN
METHOD:PUBLISH
X-PUBLISHED-TTL:P3D
REFRESH-INTERVAL:P3D
CALSCALE:GREGORIAN
BEGIN:VEVENT
DTSTART:20190110T133000Z
DTEND:20190110T150000Z
X-MICROSOFT-CDO-ALLDAYEVENT:FALSE
SUMMARY:Chamber Cafe @ Bigwood Event Center
DESCRIPTION:"Chamber Cafe" is a bi-monthly casual gathering where you will find out what's going on "behind the scenes" in the community.  Enjoy refreshments & networking. At the end\, one business card will be drawn for "Half the Cash" -must be present to win. If you like being "in the know" then this is an event you'll want to go. A delicious light breakfast will be served.  Hosted by the Bigwood Event Center\, Country Inn & Suites and Z103 Bar & Grill  For just $5 Chamber members ($10 general public)\, you will hear brief updates from speakers including:\n\n	Country Inn & Suites/Bigwood Event Center/Z103 -- Hosts\n	Deanna Mounts\, MN Veterans Home\, Fergus Falls\n	Lynette Gaustad\, Young Professionals Networking\n	Scott Christison\, Lakes Area Web Services\n	Russ Rapp\, LB Homes \n	Erin Smith\, Fergus Falls Public Library \n	Patricia Roehl\, Pro Floor & Tile \n	Mary Phillipe\, United Way of Otter Tail & Wadena Counties\n	Natalie Knutson\, LRH \n	Chris Roberts\, OSPTI\n	Darren Krein\, New Beginnings\n	Mitzi Moe\, Fergus Falls Daily Journal\n	Steve Swanson\, Fergus Falls Sertoma\n	Megan Shubitz\, Kiwanis\n	Kelsey Festul & Katrina Johnson\, Otter PTO\n	Wade Vogl\, Northwestern Bank\n	Michael Burgraff\, A Center for the Arts\n\n The Bigwood Event Center is serving up a fantastic Midwestern Breakfast Buffet:\n\n                            *Scrambled Eggs\n\n                            *Sausage\n\n                            *Mini Caramel and Cinnamon Rolls\n\n                            *Yogurt\n\n                            *Fresh Fruit
X-ALT-DESC;FMTTYPE=text/html:<span style="font-family:tahoma\;"><span style="color: rgb(0\, 0\, 0)\;"><strong>&quot\;Chamber Cafe&quot\; </strong>is a bi-monthly casual gathering where you will find out what&#39\;s going on &quot\;behind the scenes&quot\;&nbsp\;in the community.&nbsp\; Enjoy refreshments &amp\; networking. At the end\, one business card will be drawn for &quot\;Half the Cash&quot\; -must be present to win.&nbsp\;If you like being &quot\;in the know&quot\; then this is an event you&#39\;ll want to go. A delicious light breakfast will be served.&nbsp\; </span><span style="color: rgb(0\, 0\, 255)\;"><em><strong>Hosted by the Bigwood Event Center\, Country Inn &amp\; Suites and Z103 Bar &amp\; Gril</strong>l&nbsp\;&nbsp\;</em></span><span style="color: rgb(0\, 0\, 0)\;">For just $5 Chamber members ($10 general public)\, you&nbsp\;will hear brief updates from speakers including:</span></span>\n<ul>\n	<li><span style="font-family:tahoma\;"><span style="color: rgb(0\, 0\, 0)\;">Country Inn &amp\; Suites/Bigwood Event Center/Z103 -- Hosts</span></span></li>\n	<li><span style="font-family:tahoma\;"><span style="color: rgb(0\, 0\, 0)\;">Deanna Mounts\, MN Veterans Home\, Fergus Falls</span></span></li>\n	<li><span style="font-family:tahoma\;"><span style="color: rgb(0\, 0\, 0)\;">Lynette Gaustad\, Young Professionals Networking</span></span></li>\n	<li><span style="font-family:tahoma\;"><span style="color: rgb(0\, 0\, 0)\;">Scott Christison\, Lakes Area Web Services</span></span></li>\n	<li><span style="font-family:tahoma\;"><span style="color: rgb(0\, 0\, 0)\;">Russ Rapp\, LB Homes </span></span></li>\n	<li><span style="font-family:tahoma\;"><span style="color: rgb(0\, 0\, 0)\;">Erin Smith\, Fergus Falls Public Library </span></span></li>\n	<li><span style="font-family:tahoma\;"><span style="color: rgb(0\, 0\, 0)\;">Patricia Roehl\, Pro Floor &amp\; Tile </span></span></li>\n	<li><span style="font-family:tahoma\;"><span style="color: rgb(0\, 0\, 0)\;">Mary Phillipe\, United Way of Otter Tail &amp\; Wadena Counties</span></span></li>\n	<li><span style="font-family:tahoma\;"><span style="color: rgb(0\, 0\, 0)\;">Natalie Knutson\, LRH </span></span></li>\n	<li><span style="font-family:tahoma\;"><span style="color: rgb(0\, 0\, 0)\;">Chris Roberts\, OSPTI</span></span></li>\n	<li><span style="font-family:tahoma\;"><span style="color: rgb(0\, 0\, 0)\;">Darren Krein\, New Beginnings</span></span></li>\n	<li><span style="font-family:tahoma\;"><span style="color: rgb(0\, 0\, 0)\;">Mitzi Moe\, Fergus Falls Daily Journal</span></span></li>\n	<li><span style="font-family:tahoma\;"><span style="color: rgb(0\, 0\, 0)\;">Steve Swanson\, Fergus Falls Sertoma</span></span></li>\n	<li><span style="font-family:tahoma\;"><span style="color: rgb(0\, 0\, 0)\;">Megan Shubitz\, Kiwanis</span></span></li>\n	<li><span style="font-family:tahoma\;"><span style="color: rgb(0\, 0\, 0)\;">Kelsey Festul &amp\; Katrina Johnson\, Otter PTO</span></span></li>\n	<li><span style="font-family:tahoma\;"><span style="color: rgb(0\, 0\, 0)\;">Wade Vogl\, Northwestern Bank</span></span></li>\n	<li><span style="font-family:tahoma\;"><span style="color: rgb(0\, 0\, 0)\;">Michael Burgraff\, A Center for the Arts</span></span></li>\n</ul>\n<span style="font-family:tahoma\;"> <span style="color: rgb(0\, 0\, 0)\;"><strong>The Bigwood Event Center is serving up a fantastic Midwestern Breakfast Buffet:</strong></span><br />\n&nbsp\;&nbsp\;&nbsp\;&nbsp\;&nbsp\;&nbsp\;&nbsp\;&nbsp\;&nbsp\;&nbsp\;&nbsp\;&nbsp\;&nbsp\;&nbsp\;&nbsp\;&nbsp\;&nbsp\;&nbsp\;&nbsp\;&nbsp\;&nbsp\;&nbsp\;&nbsp\;&nbsp\;&nbsp\; &nbsp\; *Scrambled Eggs<br />\n&nbsp\;&nbsp\;&nbsp\;&nbsp\;&nbsp\;&nbsp\;&nbsp\;&nbsp\;&nbsp\;&nbsp\;&nbsp\;&nbsp\;&nbsp\;&nbsp\;&nbsp\;&nbsp\;&nbsp\;&nbsp\;&nbsp\;&nbsp\;&nbsp\;&nbsp\;&nbsp\;&nbsp\;&nbsp\; &nbsp\; *Sausage<br />\n&nbsp\;&nbsp\;&nbsp\;&nbsp\;&nbsp\;&nbsp\;&nbsp\;&nbsp\;&nbsp\;&nbsp\;&nbsp\;&nbsp\;&nbsp\;&nbsp\;&nbsp\;&nbsp\;&nbsp\;&nbsp\;&nbsp\;&nbsp\;&nbsp\;&nbsp\;&nbsp\;&nbsp\;&nbsp\; &nbsp\; *Mini Caramel and Cinnamon Rolls<br />\n&nbsp\;&nbsp\;&nbsp\;&nbsp\;&nbsp\;&nbsp\;&nbsp\;&nbsp\;&nbsp\;&nbsp\;&nbsp\;&nbsp\;&nbsp\;&nbsp\;&nbsp\;&nbsp\;&nbsp\;&nbsp\;&nbsp\;&nbsp\;&nbsp\;&nbsp\;&nbsp\;&nbsp\;&nbsp\; &nbsp\; *Yogurt<br />\n&nbsp\;&nbsp\;&nbsp\;&nbsp\;&nbsp\;&nbsp\;&nbsp\;&nbsp\;&nbsp\;&nbsp\;&nbsp\;&nbsp\;&nbsp\;&nbsp\;&nbsp\;&nbsp\;&nbsp\;&nbsp\;&nbsp\;&nbsp\;&nbsp\;&nbsp\;&nbsp\;&nbsp\;&nbsp\;&nbsp\;&nbsp\;&nbsp\;*Fresh Fruit</span><br />\n&nbsp\;
LOCATION:Bigwood Event Center 925 Western Ave. Fergus Falls\, MN 56537
UID:e.314.24266
SEQUENCE:3
DTSTAMP:20260423T105917Z
URL:https://business.fergusfalls.com/events/details/chamber-cafe-bigwood-event-center-24266
END:VEVENT

END:VCALENDAR
