BEGIN:VCALENDAR
VERSION:2.0
PRODID:-//ChamberMaster//Event Calendar 2.0//EN
METHOD:PUBLISH
X-PUBLISHED-TTL:P3D
REFRESH-INTERVAL:P3D
CALSCALE:GREGORIAN
BEGIN:VEVENT
DTSTART:20190912T123000Z
DTEND:20190912T140000Z
X-MICROSOFT-CDO-ALLDAYEVENT:FALSE
SUMMARY:Chamber Cafe - Brew Up Business
DESCRIPTION:Brew up Business at "Chamber Cafe" a casual gathering where you will find out what's going on "behind the scenes" in the community.  Enjoy refreshments & networking. At the end\, one business card will be drawn for "Half the Cash" -must be present to win. If you like being "in the know" then this is an event you'll want to go. A delicious light breakfast will be served.  Hosted by M State - Fergus Falls  For just $5 Chamber members ($10 general public)\, you will hear brief updates from speakers.\n\n	Hosts - M State \n	Greater Fergus Falls\, NeTia Bauman\n	ISD #544\, Kathryn Enderson\n	Otter Tail County\, Shannon Terry\n	The Daily Journal\, Ken Harty\n	Mill Street Residence\, Tara Wagner\n	Marco\, Crystal Piekarski & Tanya Stiefel\n	American Gas & Welding\, Eric Wilken\n	Gate City Bank\, Brian Billings \n	LB Homes\, Amie Welch \n	Multi Business Solutions\, Megan Beckler\n	Northwestern Bank\, Michele Vogl\n	Joanne New Age\, Joanne Alnaji\n	Revive Massage & Country Spa\, Danielle Elliott\n	Icon Business Advantage\, Leigh Bauman\n	Visit Fergus Falls\, Jean Bowman
X-ALT-DESC;FMTTYPE=text/html:<span style="color:#000000\;"><span style="font-family:verdana\;"><strong>Brew up Business at &quot\;Chamber Cafe&quot\; </strong>a casual gathering where you will find out what&#39\;s going on &quot\;behind the scenes&quot\;&nbsp\;in the community.&nbsp\; Enjoy refreshments &amp\; networking. At the end\, one business card will be drawn for &quot\;Half the Cash&quot\; -must be present to win.&nbsp\;If you like being &quot\;in the know&quot\; then this is an event you&#39\;ll want to go. A delicious light breakfast will be served.&nbsp\; <em>Hosted by&nbsp\;M State - Fergus Falls &nbsp\;</em>For just $5 Chamber members ($10 general public)\, you&nbsp\;will hear brief updates from speakers.</span></span>\n<ol>\n	<li><span style="color:#000000\;"><span style="font-family:verdana\;">Hosts - M State </span></span></li>\n	<li><span style="color:#000000\;"><span style="font-family:verdana\;">Greater Fergus Falls\, NeTia Bauman</span></span></li>\n	<li><span style="color:#000000\;"><span style="font-family:verdana\;">ISD #544\, Kathryn Enderson</span></span></li>\n	<li><span style="color: rgb(0\, 0\, 0)\;"><span style="font-family: verdana\;">Otter Tail County\, Shannon Terry</span></span></li>\n	<li><span style="color:#000000\;"><span style="font-family:verdana\;">The Daily Journal\, Ken Harty</span></span></li>\n	<li><span style="color:#000000\;"><span style="font-family:verdana\;">Mill Street Residence\, Tara Wagner</span></span></li>\n	<li><span style="color:#000000\;"><span style="font-family:verdana\;">Marco\, Crystal Piekarski&nbsp\;&amp\; Tanya Stiefel</span></span></li>\n	<li><span style="color:#000000\;"><span style="font-family:verdana\;">American Gas &amp\; Welding\, Eric Wilken</span></span></li>\n	<li><span style="color:#000000\;"><span style="font-family:verdana\;">Gate City Bank\, Brian Billings </span></span></li>\n	<li><span style="color:#000000\;"><span style="font-family:verdana\;">LB Homes\, Amie Welch </span></span></li>\n	<li><span style="color:#000000\;"><span style="font-family:verdana\;">Multi Business Solutions\, Megan Beckler</span></span></li>\n	<li><span style="color:#000000\;"><span style="font-family:verdana\;">Northwestern Bank\, Michele Vogl</span></span></li>\n	<li><span style="color:#000000\;"><span style="font-family:verdana\;">Joanne New Age\,&nbsp\;Joanne Alnaji</span></span></li>\n	<li><span style="color:#000000\;"><span style="font-family:verdana\;">Revive Massage &amp\; Country Spa\, Danielle Elliott</span></span></li>\n	<li><span style="color:#000000\;"><span style="font-family:verdana\;">Icon Business Advantage\, Leigh Bauman</span></span></li>\n	<li><span style="color:#000000\;"><span style="font-family:verdana\;">Visit Fergus Falls\, Jean Bowman</span></span></li>\n</ol>\n
LOCATION:M State Fergus Falls campus Legacy Hall 1414 College Way Fergus Falls\, MN
UID:e.314.24270
SEQUENCE:3
DTSTAMP:20260422T222544Z
URL:https://business.fergusfalls.com/events/details/chamber-cafe-brew-up-business-24270
END:VEVENT

END:VCALENDAR
