BEGIN:VCALENDAR
VERSION:2.0
PRODID:-//ChamberMaster//Event Calendar 2.0//EN
METHOD:PUBLISH
X-PUBLISHED-TTL:P3D
REFRESH-INTERVAL:P3D
CALSCALE:GREGORIAN
BEGIN:VEVENT
DTSTART:20210708T123000Z
DTEND:20210708T140000Z
X-MICROSOFT-CDO-ALLDAYEVENT:FALSE
SUMMARY:Chamber Cafe - Brew Up Business IN PERSON
DESCRIPTION:We can't wait to see you IN PERSON at "Chamber Cafe" at Lincoln School (formerly Target) on Thursday\, July 8\, 2021 sponsored by Multi Business Solutions. Chamber Cafe is a bi-monthly casual gathering where you will find out what's going on "behind the scenes" in the community.  Enjoy a light breakfast and unlimited networking. At the end\, one business card will be drawn for "Half the Cash" (must be present to win). If you like being "in the know" then this is an event you'll want to go.\n\nFor just $5 Chamber members ($10 general public)\, you will get the scoop on "Shop\, Move 'n Groove" and hear brief updates from speakers including:\n\n	Jeff Drake\, Fergus Falls Public Schools\n	Melissa Amundson\, Fergus Falls Public Schools\n	Megan Beckler & Natalie Remund\, Multi Business Solutions -- sponsors\n	Kevin Swenson\, Pebble Lake Golf Club\n	Mary Matteson\, Community Education\n	Katie Ganoe\, Otter Cove Children's Museum\n	Amy Johnson\, Cardinal Consulting Solutions\n	Dawn Saxton\, Cora's Closet - Late 'til 8\n	Ron Lauer\, SERVPRO of Otter Tail & Douglas Counties\n	Amy Deacon\, Northern Oaks Senior Living - The Cottage\n	Kathryn Enderson\, FFHS Work-Based Learning Coordinator\n	Becca Michael\, Otter Tail Power - Hoot Lake Solar\n	Patrick Waletzko\, Otter Tail County\n	Jessica Lopez\, Farmers Insurance\n	Chris Schuelke\, Otter Tail Co. Historical Society
X-ALT-DESC;FMTTYPE=text/html:<div style="font-size: 12px\;"><span style="color:#000000\;"><span style="font-size:12px\;"><span style="font-family:verdana\;"><strong>We can&#39\;t wait to see you IN PERSON at &quot\;Chamber Cafe&quot\; at Lincoln School (formerly Target) on Thursday\, July 8\, 2021 sponsored by Multi Business Solutions. </strong>Chamber Cafe&nbsp\;is a bi-monthly casual gathering where you will find out what&#39\;s going on &quot\;behind the scenes&quot\;&nbsp\;in the community.&nbsp\; Enjoy a light breakfast and unlimited networking. At the end\, one business card will be drawn for &quot\;Half the Cash&quot\; (must be present to win).&nbsp\;If you like being &quot\;in the know&quot\; then this is an event you&#39\;ll want to go.<br />\nFor just $5 Chamber members ($10 general public)\, you&nbsp\;will get the scoop on &quot\;Shop\, Move &#39\;n Groove&quot\; and hear brief updates from speakers including:</span></span></span>\n<ol>\n	<li><span style="color:#000000\;"><span style="font-size:12px\;"><span style="font-family:verdana\;">Jeff Drake\, Fergus Falls Public Schools</span></span></span></li>\n	<li><font color="#000000" face="verdana">Melissa Amundson\, Fergus Falls Public Schools</font></li>\n	<li><span style="color:#000000\;"><span style="font-size:12px\;"><span style="font-family:verdana\;">Megan Beckler &amp\; Natalie Remund\, Multi Business Solutions -- sponsors</span></span></span></li>\n	<li><span style="color:#000000\;"><span style="font-size:12px\;"><span style="font-family:verdana\;">Kevin Swenson\, Pebble Lake Golf Club</span></span></span></li>\n	<li><span style="color:#000000\;"><span style="font-size:12px\;"><span style="font-family:verdana\;">Mary Matteson\, Community Education</span></span></span></li>\n	<li><span style="color:#000000\;"><span style="font-size:12px\;"><span style="font-family:verdana\;">Katie Ganoe\, Otter Cove Children&#39\;s Museum</span></span></span></li>\n	<li><span style="color:#000000\;"><span style="font-size:12px\;"><span style="font-family:verdana\;">Amy Johnson\, Cardinal Consulting Solutions</span></span></span></li>\n	<li><span style="color:#000000\;"><span style="font-size:12px\;"><span style="font-family:verdana\;">Dawn Saxton\, Cora&#39\;s Closet - Late &#39\;til 8</span></span></span></li>\n	<li><span style="color:#000000\;"><span style="font-size:12px\;"><span style="font-family:verdana\;">Ron Lauer\, SERVPRO of Otter Tail &amp\; Douglas Counties</span></span></span></li>\n	<li><span style="color:#000000\;"><span style="font-size:12px\;"><span style="font-family:verdana\;">Amy Deacon\, Northern Oaks Senior Living - The Cottage</span></span></span></li>\n	<li><font color="#000000" face="verdana">Kathryn Enderson\, FFHS Work-Based Learning Coordinator</font></li>\n	<li><span style="color:#000000\;"><span style="font-size:12px\;"><span style="font-family:verdana\;">Becca Michael\, Otter Tail Power - Hoot Lake Solar</span></span></span></li>\n	<li><span style="color:#000000\;"><span style="font-size:12px\;"><span style="font-family:verdana\;">Patrick Waletzko\, Otter Tail County</span></span></span></li>\n	<li><span style="color:#000000\;"><span style="font-size:12px\;"><span style="font-family:verdana\;">Jessica Lopez\, Farmers Insurance</span></span></span></li>\n	<li><span style="color:#000000\;"><span style="font-size:12px\;"><span style="font-family:verdana\;">Chris Schuelke\, Otter Tail Co. Historical Society&nbsp\;</span></span></span></li>\n</ol>\n</div>\n
LOCATION:Lincoln School 2300 College Way Fergus Falls\, MN (formerly Target) Please park on west side of parking lot\, near playground fencing.
UID:e.314.24281
SEQUENCE:3
DTSTAMP:20260421T112212Z
URL:https://business.fergusfalls.com/events/details/chamber-cafe-brew-up-business-in-person-24281
END:VEVENT

END:VCALENDAR
