BEGIN:VCALENDAR
VERSION:2.0
PRODID:-//ChamberMaster//Event Calendar 2.0//EN
METHOD:PUBLISH
X-PUBLISHED-TTL:P3D
REFRESH-INTERVAL:P3D
CALSCALE:GREGORIAN
BEGIN:VEVENT
DTSTART:20200312T123000Z
DTEND:20200312T140000Z
X-MICROSOFT-CDO-ALLDAYEVENT:FALSE
SUMMARY:Chamber Cafe - Brew Up Business @ LB Homes
DESCRIPTION:"Chamber Cafe" is a bi-monthly casual gathering where you will find out what's going on "behind the scenes" in the community.  Enjoy refreshments & networking. At the end\, one business card will be drawn for "Half the Cash" -must be present to win. If you like being "in the know" then this is an event you'll want to go. A delicious light breakfast will be served.  Hosted by a LB Homes. For just $5 Chamber members ($10 general public)\, you will hear brief updates from speakers.\n\n\n	Host: LB Homes\n	Otter PTO\n	Joten Lake Acres\, Elsa Wadsworth\n	Sparklight Advertising\, Sandy Krebs\n	Veterans Walk of Flags\, Dori Knutson \n	Lakes Inn Dunvilla\, Robert Kohler \n	Security State Bank (Relay for Life)\, Darla Jacobson\n	Fleet Farm\, Jake Blersch \n	Farmers Insurance\, Jessica Lopez\n	Otter Cove Children's Museum\, Summer Schoer\n	Otter Tail County - Governor's Fishing Opener\, Nick Leonard\n	Greater Fergus Falls\, Annie Deckert\n	Leighton Broadcasting Craft Beer Tour\n	Lakes Country Academy - LCSC\, Dessica Veum \n	Fergus Home & Hardware\, Mary Widiger\n	Summerfest\, Katherine Robbins
X-ALT-DESC;FMTTYPE=text/html:<span style="font-size: 12px\;"><span style="color: rgb(0\, 0\, 0)\;"><strong>&quot\;Chamber Cafe&quot\; </strong>is a bi-monthly casual gathering where you will find out what&#39\;s going on &quot\;behind the scenes&quot\;&nbsp\;in the community.&nbsp\; Enjoy refreshments &amp\; networking. At the end\, one business card will be drawn for &quot\;Half the Cash&quot\; -must be present to win.&nbsp\;If you like being &quot\;in the know&quot\; then this is an event you&#39\;ll want to go. A delicious light breakfast will be served.&nbsp\; </span><span style="color: rgb(0\, 0\, 255)\;"><em>Hosted by a LB Homes.&nbsp\;</em></span><span style="color: rgb(0\, 0\, 0)\;">For just $5 Chamber members ($10 general public)\, you&nbsp\;will hear brief updates from speakers.</span></span>\n\n<ul>\n	<li><span style="font-family: verdana\;"><span style="font-size: 12px\;"><span style="color: rgb(0\, 0\, 0)\;">Host: LB Homes</span></span></span></li>\n	<li><span style="font-family: verdana\;"><span style="font-size: 12px\;"><span style="color: rgb(0\, 0\, 0)\;">Otter PTO</span></span></span></li>\n	<li><span style="font-family: verdana\;"><span style="color: rgb(0\, 0\, 0)\;"><span style="font-size: 12px\;">Joten Lake Acres\, Elsa Wadsworth</span></span></span></li>\n	<li><span style="font-family: verdana\;"><span style="font-size: 12px\;"><span style="color: rgb(0\, 0\, 0)\;">Sparklight Advertising\, Sandy Krebs</span></span></span></li>\n	<li><span style="font-family: verdana\;"><span style="font-size: 12px\;"><span style="color: rgb(0\, 0\, 0)\;">Veterans Walk of Flags\, Dori Knutson </span></span></span></li>\n	<li><span style="font-family: verdana\;"><span style="font-size: 12px\;"><span style="color: rgb(0\, 0\, 0)\;">Lakes Inn Dunvilla\, Robert Kohler </span></span></span></li>\n	<li><span style="font-family: verdana\;"><span style="font-size: 12px\;"><span style="color: rgb(0\, 0\, 0)\;">Security State Bank (Relay for Life)\, Darla Jacobson</span></span></span></li>\n	<li><span style="font-family: verdana\;"><span style="font-size: 12px\;"><font color="#000000">Fleet Farm\, Jake&nbsp\;Blersch</font>&nbsp\;</span></span></li>\n	<li><span style="font-family: verdana\;"><span style="font-size: 12px\;"><span style="color: rgb(0\, 0\, 0)\;">Farmers Insurance\, Jessica Lopez</span></span></span></li>\n	<li><span style="font-family: verdana\;"><span style="font-size: 12px\;"><span style="color: rgb(0\, 0\, 0)\;">Otter Cove Children&#39\;s Museum\,&nbsp\;</span></span>Summer Schoer</span></li>\n	<li><span style="font-family: verdana\;"><span style="font-size: 12px\;"><span style="color: rgb(0\, 0\, 0)\;">Otter Tail County - Governor&#39\;s Fishing Opener\,&nbsp\;</span></span>Nick Leonard</span></li>\n	<li><span style="font-family: verdana\;"><span style="font-size: 12px\;"><span style="color: rgb(0\, 0\, 0)\;">Greater Fergus Falls\, Annie Deckert</span></span></span></li>\n	<li><span style="font-family: verdana\;"><span style="font-size: 12px\;"><span style="color: rgb(0\, 0\, 0)\;">Leighton Broadcasting Craft Beer Tour</span></span></span></li>\n	<li><span style="font-family: verdana\;"><span style="font-size: 12px\;"><span style="color: rgb(0\, 0\, 0)\;">Lakes Country Academy - LCSC\, Dessica Veum </span></span></span></li>\n	<li><span style="font-family: verdana\;"><span style="font-size: 12px\;"><span style="color: rgb(0\, 0\, 0)\;">Fergus Home &amp\; Hardware\, Mary Widiger</span></span></span></li>\n	<li><span style="font-family: verdana\;"><span style="font-size: 12px\;"><span style="color: rgb(0\, 0\, 0)\;">Summerfest\, Katherine Robbins</span></span></span></li>\n</ul>\n
LOCATION:LB Homes/Broen Home Light & Life Auditorium 418 E. Alcott Ave. Fergus Falls\, MN Plenty of parking on Alcott and in the guest parking lot off Alcott.
UID:e.314.24273
SEQUENCE:3
DTSTAMP:20260422T130719Z
URL:https://business.fergusfalls.com/events/details/chamber-cafe-brew-up-business-lb-homes-24273
END:VEVENT

END:VCALENDAR
