BEGIN:VCALENDAR
VERSION:2.0
PRODID:-//ChamberMaster//Event Calendar 2.0//EN
METHOD:PUBLISH
X-PUBLISHED-TTL:P3D
REFRESH-INTERVAL:P3D
CALSCALE:GREGORIAN
BEGIN:VEVENT
DTSTART:20210909T123000Z
DTEND:20210909T140000Z
X-MICROSOFT-CDO-ALLDAYEVENT:FALSE
SUMMARY:Chamber Cafe - Brew up Business @ M State
DESCRIPTION:"Chamber Cafe" is a casual gathering where you will find out what's going on "behind the scenes" in the region.  Enjoy a light breakfast and unlimited networking with other leaders in the community. You'll hear brief updates from the Fergus Falls Chamber and 10-15 chamber members and community leaders plus have a chance to introduce yourself and hand out business cards.  If you like being "in the know" then this is an event you'll want to go. At the end\, one business card will be drawn for "Half the Cash" -must be present to win. \n\nHosted by M State Fergus Falls.  Masks required on campus.\n\nSeptember 2021 Speakers include:\n\n	Carrie Brimhall\, M State\n	Sue Zurn\, Fergus Area College Foundation/M State\n	Josh Mohagen\, Terroir Chocolates\n	Tim Nanson\, Fortress Financial\n	Nichole Norgren\, Rural MN CEP JobFest\n	Tyler Schepper\, Greater Fergus Falls\n	Patricia Wahl\, Meadow Farm Foods\n	Scott Kvamme\, Fergus Falls City Council - RTC Master Plan\n	Seth Neistadt\, CBMC Inc.\n	Jeanne Jensen\, Fergus Falls Concert Association\n	Amy Baldwin\, Otter Tail County\n	Colleen Kennedy\, Lakeland Mental Health\n	Kelsey Thiele\, KrAz Dance Studio\n	Mike Trudeau\, Fergus Falls Human Rights Commission\n	Michael Burgraff\, A Center for the Arts
X-ALT-DESC;FMTTYPE=text/html:<span style="font-size: 12px\;"><span style="color: rgb(0\, 0\, 0)\;"><strong>&quot\;Chamber Cafe&quot\; </strong>is a casual gathering where you will find out what&#39\;s going on &quot\;behind the scenes&quot\;&nbsp\;in the region.&nbsp\; Enjoy a light breakfast and unlimited networking with other leaders in the community. You&#39\;ll hear brief updates from the Fergus Falls Chamber and 10-15 chamber members and community leaders plus have a chance to introduce yourself and hand out business cards. </span></span><span style="color: rgb(0\, 0\, 0)\; font-size: 12px\;">&nbsp\;If you like being &quot\;in the know&quot\; then this is an event you&#39\;ll want to go.&nbsp\;</span><span style="font-size: 12px\;"><span style="color: rgb(0\, 0\, 0)\;">At the end\, one business card will be drawn for &quot\;Half the Cash&quot\; -must be present to win. </span><br />\n<strong><span style="color: rgb(0\, 0\, 255)\;"><em>Hosted by M State Fergus Falls.&nbsp\; Masks required on campus.</em></span></strong><br />\n<span style="color: rgb(0\, 0\, 0)\;">September 2021 Speakers include:</span></span>\n<ol>\n	<li><span style="font-size: 12px\;"><span style="color: rgb(0\, 0\, 0)\;">Carrie Brimhall\, M State</span></span></li>\n	<li><font color="#000000"><span style="font-size: 12px\;">Sue Zurn\, Fergus Area College Foundation/M State</span></font></li>\n	<li><span style="font-size: 12px\;"><span style="color: rgb(0\, 0\, 0)\;">Josh Mohagen\, Terroir Chocolates</span></span></li>\n	<li><span style="font-size: 12px\;"><span style="color: rgb(0\, 0\, 0)\;">Tim Nanson\, Fortress Financial</span></span></li>\n	<li><span style="font-size: 12px\;"><span style="color: rgb(0\, 0\, 0)\;">Nichole Norgren\, Rural MN CEP JobFest</span></span></li>\n	<li><span style="font-size: 12px\;"><span style="color: rgb(0\, 0\, 0)\;">Tyler Schepper\, Greater Fergus Falls</span></span></li>\n	<li><span style="font-size: 12px\;"><span style="color: rgb(0\, 0\, 0)\;">Patricia Wahl\, Meadow Farm Foods</span></span></li>\n	<li><span style="font-size: 12px\;"><span style="color: rgb(0\, 0\, 0)\;">Scott Kvamme\, Fergus Falls City Council - RTC Master Plan</span></span></li>\n	<li><span style="font-size: 12px\;"><span style="color: rgb(0\, 0\, 0)\;">Seth Neistadt\, CBMC Inc.</span></span></li>\n	<li><span style="font-size: 12px\;"><span style="color: rgb(0\, 0\, 0)\;">Jeanne Jensen\, Fergus Falls Concert Association</span></span></li>\n	<li><span style="font-size: 12px\;"><span style="color: rgb(0\, 0\, 0)\;">Amy Baldwin\, Otter Tail County</span></span></li>\n	<li><span style="font-size: 12px\;"><span style="color: rgb(0\, 0\, 0)\;">Colleen Kennedy\, Lakeland Mental Health</span></span></li>\n	<li><span style="font-size: 12px\;"><span style="color: rgb(0\, 0\, 0)\;">Kelsey Thiele\, KrAz Dance Studio</span></span></li>\n	<li><span style="font-size: 12px\;"><span style="color: rgb(0\, 0\, 0)\;">Mike Trudeau\, Fergus Falls Human Rights Commission</span></span></li>\n	<li><font color="#000000"><span style="font-size: 12px\;">Michael Burgraff\, A Center for the Arts</span></font></li>\n</ol>\n
LOCATION:M State Fergus Falls campus 1414 College Way Fergus Falls\, MN 56537 Legacy Hall
UID:e.314.24282
SEQUENCE:3
DTSTAMP:20260421T083717Z
URL:https://business.fergusfalls.com/events/details/chamber-cafe-brew-up-business-m-state-24282
END:VEVENT

END:VCALENDAR
