BEGIN:VCALENDAR
VERSION:2.0
PRODID:-//ChamberMaster//Event Calendar 2.0//EN
METHOD:PUBLISH
X-PUBLISHED-TTL:P3D
REFRESH-INTERVAL:P3D
CALSCALE:GREGORIAN
BEGIN:VEVENT
DTSTART:20180308T133000Z
DTEND:20180308T150000Z
X-MICROSOFT-CDO-ALLDAYEVENT:FALSE
SUMMARY:Chamber Cafe - Business Networking - Get Community "behind the Scenes" Information
DESCRIPTION:"Chamber Cafe" is a bi-monthly casual gathering where you will find out what's going on "behind the scenes" in the community.  Enjoy refreshments & networking. At the end\, one guest's name will be drawn for "Half the Cash" so BRING BUSINESS CARDS. If you like being "in the know" then this is an event you'll want to go. A delicious light breakfast will be served.  Hosted by Country Inn & Suites / Bigwood Event Center/ Z103 Bar & Grill.   For just $5 Chamber members ($10 general public)\, you will hear brief updates from speakers:\n\n\n	Our Hosts\, Country Inn & Suites/Bigwood Event Center/ Z103 Bar & Grill\n	Mary Matteson\, Community Education\n	Stan Carignan\, FF Area Habitat for Humanity\n	Lindsay Aune\, Boy Scouts of America\n	Jessica Lopez\, Visionary Inc. -- new business\, new member\n	Douglas Dent\, Federated Church\n	Patricia Elsaas\, Patriot Assisted Living\n	Alisha Aselson\, Double A Catering\n	Michael Burgraff\, A Center for the Arts\n	Samantha Van Wenchel\, YMCA\n	Kris Wilke\, Walk MS\n	Jean Bowman\, Visit Fergus Falls and LEAD Fergus Falls\n	Steve Leitte\, Noon Rotary\n	Chris Roberts & Chris Kappes\, OSPTI\n	And MORE
X-ALT-DESC;FMTTYPE=text/html:<p><span style="font-size: 12px\;"><span style="color: rgb(0\, 0\, 0)\;"><strong>&quot\;Chamber Cafe&quot\; </strong>is a bi-monthly casual gathering where you will find out what&#39\;s going on &quot\;behind the scenes&quot\;&nbsp\;in the community.&nbsp\; Enjoy refreshments &amp\; networking. At the end\, one guest&#39\;s name will be drawn for &quot\;Half the Cash&quot\; so BRING BUSINESS CARDS</span></span><span style="font-size: 12px\;"><span style="color: rgb(0\, 0\, 0)\;">.&nbsp\;If you like being &quot\;in the know&quot\; then this is an event you&#39\;ll want to go. A delicious light breakfast will be served.&nbsp\; </span><span style="color: rgb(0\, 0\, 255)\;"><em>Hosted by&nbsp\;Country Inn &amp\; Suites / Bigwood Event Center/ Z103 Bar &amp\; Grill.&nbsp\; &nbsp\;</em></span><span style="color: rgb(0\, 0\, 0)\;">For just $5 Chamber members ($10 general public)\, you&nbsp\;will hear brief updates from speakers:</span></span></p>\n\n<ul>\n	<li><span style="color: rgb(0\, 0\, 0)\;">Our Hosts\, Country Inn &amp\; Suites/</span>Bigwood <font size="2">Event Center/ </font>Z103 Bar &amp\; Grill</li>\n	<li>Mary Matteson\, Community Education</li>\n	<li>Stan Carignan\, FF Area Habitat for Humanity</li>\n	<li>Lindsay Aune\, Boy Scouts of America</li>\n	<li>Jessica Lopez\, Visionary Inc. -- new business\, new member</li>\n	<li>Douglas Dent\, Federated Church</li>\n	<li>Patricia Elsaas\, Patriot Assisted Living</li>\n	<li>Alisha Aselson\, Double A Catering</li>\n	<li>Michael Burgraff\, A Center for the Arts</li>\n	<li>Samantha Van Wenchel\, YMCA</li>\n	<li>Kris Wilke\, Walk MS</li>\n	<li>Jean Bowman\, Visit Fergus Falls and LEAD Fergus Falls</li>\n	<li>Steve Leitte\, Noon Rotary</li>\n	<li>Chris Roberts &amp\; Chris Kappes\, OSPTI</li>\n	<li><em><strong>And MORE</strong></em></li>\n</ul>\n
LOCATION:Kempfer Room Bigwood Event Center 925 Western Ave. Fergus Falls\, MN
UID:e.314.24261
SEQUENCE:3
DTSTAMP:20260424T013824Z
URL:https://business.fergusfalls.com/events/details/chamber-cafe-business-networking-get-community-behind-the-scenes-information-03-08-2018-24261
END:VEVENT

END:VCALENDAR
