BEGIN:VCALENDAR
VERSION:2.0
PRODID:-//ChamberMaster//Event Calendar 2.0//EN
METHOD:PUBLISH
X-PUBLISHED-TTL:P3D
REFRESH-INTERVAL:P3D
CALSCALE:GREGORIAN
BEGIN:VEVENT
DTSTART:20160714T123000Z
DTEND:20160714T140000Z
X-MICROSOFT-CDO-ALLDAYEVENT:FALSE
SUMMARY:Chamber Cafe - Business Networking - Get Community "behind the Scenes" Information
DESCRIPTION:"Chamber Cafe" is a bi-monthly casual gathering where you will find out what's going on "behind the scenes" in the community.  Enjoy refreshments & networking. At the end\, one member's name will be drawn for "Half the Cash" (bring business cards\, must be present to win). If you like being "in the know" then this is an event you'll want to go. Breakfast will be served by The Viking Cafe -- featuring their homemade Biscuits & Gravy. Plus\, vote for a NEW LOGO for Cooper's!  Hosted by Cooper's Technology Group and Liberty Business Systems  For just $5 Chamber members ($10 general public)\, you will hear brief updates from speakers:\n\n\n	Shawna Shale\, Cooper's Technology Group\n	Ben Nelson\, Liberty Business Systems\n	Tim Eli\, LB Homes\n	Karoline Gustafson\, LRHC\n	Patrick Hollister\, Partnership for Health\n	Shawn Donais\, MN DNR: Paddlefest\n	Heidi Narimani\, Rural MN CEP\n	Grant Davenport\, Farm Bureau Financial Services (new member)\n	Jean Bowman\, CVB -- Bike MS TRAM\n	Taylor Larson\, Chamber YPN & Bigwood\n	Tom Rufer\, Noon Kiwanis\n	Naomi Schliesman\, Springboard for the Arts\n	Austin Roeder\, J & M Printing (new member)\n	Shannon Terry\, OTC Solid Waste\n	Amy Baldwin. EIC\n	"Pop Up Presenters":\n	Sara Hage\, PioneerLink Program Coordinator\n	Michael Burgraff\, A Center for the Arts
X-ALT-DESC;FMTTYPE=text/html:<div style="font-size: 12px\;"><span style="color: rgb(0\, 0\, 0)\;"><strong>&quot\;Chamber Cafe&quot\; </strong>is a bi-monthly casual gathering where you will find out what&#39\;s going on &quot\;behind the scenes&quot\;&nbsp\;in the community.&nbsp\; Enjoy refreshments &amp\; networking. At the end\, one member&#39\;s name will be drawn for &quot\;Half the Cash&quot\; (bring business cards\, must be present to win).&nbsp\;If you like being &quot\;in the know&quot\; then this is an event you&#39\;ll want to go. Breakfast will be served by The Viking Cafe -- featuring their homemade Biscuits &amp\; Gravy. Plus\, vote for a NEW LOGO for Cooper&#39\;s! &nbsp\;</span><span style="color: rgb(0\, 0\, 255)\;"><em>Hosted by&nbsp\;Cooper&#39\;s Technology Group&nbsp\;and Liberty Business Systems &nbsp\;</em></span><font color="#000000">For just $5 Chamber members ($10 general public)\, you&nbsp\;will hear brief updates from speakers:</font>\n\n<ul>\n	<li><font color="#000000">Shawna Shale\, Cooper&#39\;s Technology Group</font></li>\n	<li><font color="#000000">Ben Nelson\, Liberty Business Systems</font></li>\n	<li><font color="#000000">Tim Eli\, LB Homes</font></li>\n	<li>Karoline Gustafson\, LRHC</li>\n	<li><font color="#000000">Patrick Hollister\, Partnership for Health</font></li>\n	<li><font color="#000000">Shawn Donais\, MN DNR:&nbsp\;Paddlefest</font></li>\n	<li><font color="#000000">Heidi Narimani\, Rural MN CEP</font></li>\n	<li><font color="#000000">Grant Davenport\, Farm Bureau Financial Services (new member)</font></li>\n	<li><font color="#000000">Jean Bowman\, CVB -- Bike MS TRAM</font></li>\n	<li><font color="#000000">Taylor Larson\, Chamber YPN &amp\; Bigwood</font></li>\n	<li><font color="#000000">Tom Rufer\, Noon Kiwanis</font></li>\n	<li><font color="#000000">Naomi Schliesman\, Springboard for the Arts</font></li>\n	<li><font color="#000000">Austin Roeder\, J &amp\; M Printing (new member)</font></li>\n	<li><font color="#000000">Shannon Terry\, OTC Solid Waste</font></li>\n	<li><font color="#000000">Amy Baldwin. EIC</font></li>\n	<li><font color="#000000">&quot\;Pop Up Presenters&quot\;:</font></li>\n	<li><font color="#000000">Sara Hage\, PioneerLink Program Coordinator</font></li>\n	<li><font color="#000000">Michael Burgraff\, A Center for the Arts</font></li>\n</ul>\n</div>\n
LOCATION:Cooper's Technology Group 102 E. Lincoln Ave Fergus Falls\, MN
UID:e.314.24251
SEQUENCE:3
DTSTAMP:20260425T111945Z
URL:https://business.fergusfalls.com/events/details/chamber-cafe-business-networking-get-community-behind-the-scenes-information-07-14-2016-24251
END:VEVENT

END:VCALENDAR
