BEGIN:VCALENDAR
VERSION:2.0
PRODID:-//ChamberMaster//Event Calendar 2.0//EN
METHOD:PUBLISH
X-PUBLISHED-TTL:P3D
REFRESH-INTERVAL:P3D
CALSCALE:GREGORIAN
BEGIN:VEVENT
DTSTART:20180111T133000Z
DTEND:20180111T150000Z
X-MICROSOFT-CDO-ALLDAYEVENT:FALSE
SUMMARY:Chamber Cafe - Business Networking - Get Community "behind the Scenes" Information
DESCRIPTION:"Chamber Cafe" is a bi-monthly casual gathering where you will find out what's going on "behind the scenes" in the community.  Enjoy refreshments & networking. At the end\, one business card will be drawn for "Half the Cash" -must be present to win. If you like being "in the know" then this is an event you'll want to go. A delicious light breakfast will be served.  Hosted by PioneerCare For just $5 Chamber members ($10 general public)\, you will hear brief updates from speakers:\n\n	Nathan Johnson\, CEO PioneerCare -- hosts\n	Steve Swanson\, Fergus Falls Sertoma Club\n	Erin Smith\, Fergus Falls Public Library\n	Amy Baldwin\, Fergus Falls Small Business Training Series\n	Darla Jacobson\, Security State Bank \n	Julie Wicklund\, Summerfest \n	Natalie Knutson\, LRH \n	Megan Shubitz\, Kiwanis\n	Samantha VanWechel-Meyer\, YMCA\n	Taylor Larson\, YPN/Thrivent Financial \n	Chris Schuelke\, OTCHS \n	Jessie Brough\, Someplace Safe \n	Luke Loeffler\, Northern Aire Lanes \n	Kelli Frieler\, McLovin'\, and  Miles Ricker\, Leighton Broadcasting
X-ALT-DESC;FMTTYPE=text/html:<span style="font-size: 12px\;"><span style="font-family: verdana\;"><span style="color: rgb(0\, 0\, 0)\;"><strong>&quot\;Chamber Cafe&quot\; </strong>is a bi-monthly casual gathering where you will find out what&#39\;s going on &quot\;behind the scenes&quot\;&nbsp\;in the community.&nbsp\; Enjoy refreshments &amp\; networking. At the end\, one business card will be drawn for &quot\;Half the Cash&quot\; -must be present to win.&nbsp\;If you like being &quot\;in the know&quot\; then this is an event you&#39\;ll want to go. A delicious light breakfast will be served.&nbsp\; <em>Hosted by PioneerCare </em>For just $5 Chamber members ($10 general public)\, you&nbsp\;will hear brief updates from speakers:</span></span></span>\n<ol>\n	<li><span style="color: rgb(0\, 0\, 0)\;"><span style="font-size: 12px\;"><span style="font-family: verdana\;">Nathan Johnson\, CEO&nbsp\;PioneerCare -- hosts</span></span></span></li>\n	<li><span style="color: rgb(0\, 0\, 0)\;"><span style="font-size: 12px\;"><span style="font-family: verdana\;">Steve Swanson\, Fergus Falls Sertoma Club</span></span></span></li>\n	<li><span style="color: rgb(0\, 0\, 0)\;"><span style="font-size: 12px\;"><span style="font-family: verdana\;">Erin Smith\, Fergus Falls Public Library</span></span></span></li>\n	<li><span style="color: rgb(0\, 0\, 0)\;"><span style="font-size: 12px\;"><span style="font-family: verdana\;">Amy Baldwin\, Fergus Falls Small Business Training Series</span></span></span></li>\n	<li><span style="color: rgb(0\, 0\, 0)\;"><span style="font-size: 12px\;"><span style="font-family: verdana\;">Darla Jacobson\, Security State Bank </span></span></span></li>\n	<li><span style="color: rgb(0\, 0\, 0)\;"><span style="font-size: 12px\;"><span style="font-family: verdana\;">Julie Wicklund\, Summerfest </span></span></span></li>\n	<li><span style="color: rgb(0\, 0\, 0)\;"><span style="font-size: 12px\;"><span style="font-family: verdana\;">Natalie Knutson\, LRH </span></span></span></li>\n	<li><span style="color: rgb(0\, 0\, 0)\;"><span style="font-size: 12px\;"><span style="font-family: verdana\;">Megan Shubitz\, Kiwanis</span></span></span></li>\n	<li><span style="color: rgb(0\, 0\, 0)\;"><span style="font-size: 12px\;"><span style="font-family: verdana\;">Samantha VanWechel-Meyer\, YMCA</span></span></span></li>\n	<li><span style="color: rgb(0\, 0\, 0)\;"><span style="font-size: 12px\;"><span style="font-family: verdana\;">Taylor Larson\, YPN/Thrivent Financial </span></span></span></li>\n	<li><span style="color: rgb(0\, 0\, 0)\;"><span style="font-size: 12px\;"><span style="font-family: verdana\;">Chris Schuelke\, OTCHS </span></span></span></li>\n	<li><span style="color: rgb(0\, 0\, 0)\;"><span style="font-size: 12px\;"><span style="font-family: verdana\;">Jessie Brough\, Someplace Safe </span></span></span></li>\n	<li><span style="color: rgb(0\, 0\, 0)\;"><span style="font-size: 12px\;"><span style="font-family: verdana\;">Luke Loeffler\, Northern Aire Lanes&nbsp\;</span></span></span></li>\n	<li><span style="color: rgb(0\, 0\, 0)\;"><span style="font-size: 12px\;"><span style="font-family: verdana\;">Kelli Frieler\, McLovin&#39\;\, and &nbsp\;Miles Ricker\, Leighton Broadcasting </span></span></span></li>\n</ol>\n
LOCATION:PioneerCare Celebration Center
UID:e.314.24260
SEQUENCE:3
DTSTAMP:20260424T043100Z
URL:https://business.fergusfalls.com/events/details/chamber-cafe-business-networking-get-community-behind-the-scenes-information-24260
END:VEVENT

END:VCALENDAR
