BEGIN:VCALENDAR
VERSION:2.0
PRODID:-//ChamberMaster//Event Calendar 2.0//EN
METHOD:PUBLISH
X-PUBLISHED-TTL:P3D
REFRESH-INTERVAL:P3D
CALSCALE:GREGORIAN
BEGIN:VEVENT
DTSTART:20200109T133000Z
DTEND:20200109T150000Z
X-MICROSOFT-CDO-ALLDAYEVENT:FALSE
SUMMARY:Chamber Cafe - hosted by Noon Kiwanis @ YMCA
DESCRIPTION:"Chamber Cafe" is a bi-monthly casual gathering where you will find out what's going on "behind the scenes" in the community.  Enjoy refreshments & networking. At the end\, one business card will be drawn for "Half the Cash" -must be present to win. If you like being "in the know" then this is an event you'll want to go. A delicious light breakfast will be served.  Hosted by Noon Kiwanis.  For just $5 Chamber members ($10 general public)\, you will hear brief updates from speakers.\n\n\n	Connie Knapp & Members of Noon Kiwanis\n	Humane Society of Otter Tail County\n	YMCA\, Emily Stawarski\n	Fox Consulting\, Alison Steinwand\n	SERTOMA Club\, Steve Swanson\n	COWORK Fergus Falls\, Ruth Rosengren\n	Otter Tail Telcom Park Region - David Pawlowski \n	LB Homes\, Don Mollerud\n	Icon Business Advantage\, Leigh Bauman \n	Summerfest\, Katherine Robbins\n	Northstar Behavioral Health\, Alicia Househ\n	Greater Fergus Falls\, NeTia Bauman\n	A Center for the Arts\, Michael Burgraff
X-ALT-DESC;FMTTYPE=text/html:<div style="font-size: 12px\;"><span style="color: rgb(0\, 0\, 0)\;"><strong>&quot\;Chamber Cafe&quot\; </strong>is a bi-monthly casual gathering where you will find out what&#39\;s going on &quot\;behind the scenes&quot\;&nbsp\;in the community.&nbsp\; Enjoy refreshments &amp\; networking. At the end\, one business card will be drawn for &quot\;Half the Cash&quot\; -must be present to win.&nbsp\;If you like being &quot\;in the know&quot\; then this is an event you&#39\;ll want to go. A delicious light breakfast will be served.&nbsp\; </span><span style="color: rgb(0\, 0\, 255)\;"><em>Hosted by Noon Kiwanis.&nbsp\;&nbsp\;</em></span><span style="color: rgb(0\, 0\, 0)\;">For just $5 Chamber members ($10 general public)\, you&nbsp\;will hear brief updates from speakers.</span></div>\n\n<ul>\n	<li style="font-size: 12px\;"><span style="color: rgb(0\, 0\, 0)\;">Connie Knapp &amp\; Members of Noon Kiwanis</span></li>\n	<li><span style="font-size: 12px\;"><span style="color: rgb(0\, 0\, 0)\;">Humane Society of Otter Tail County</span></span></li>\n	<li><span style="font-size: 12px\;"><span style="color: rgb(0\, 0\, 0)\;">YMCA\, Emily Stawarski</span></span></li>\n	<li><span style="font-size: 12px\;"><span style="color: rgb(0\, 0\, 0)\;">Fox Consulting\, Alison Steinwand</span></span></li>\n	<li><font color="#000000"><span style="font-size: 12px\;">SERTOMA Club\, Steve Swanson</span></font></li>\n	<li><font color="#000000"><span style="font-size: 12px\;">COWORK Fergus Falls\, Ruth Rosengren</span></font></li>\n	<li><font color="#000000"><span style="font-size: 12px\;">Otter Tail Telcom Park Region - David Pawlowski </span></font></li>\n	<li><font color="#000000"><span style="font-size: 12px\;">LB Homes\, Don Mollerud</span></font></li>\n	<li><font color="#000000"><span style="font-size: 12px\;">Icon Business Advantage\, Leigh Bauman </span></font></li>\n	<li><font color="#000000"><span style="font-size: 12px\;">Summerfest\, Katherine Robbins</span></font></li>\n	<li><font color="#000000"><span style="font-size: 12px\;">Northstar Behavioral Health\, Alicia Househ</span></font></li>\n	<li><font color="#000000"><span style="font-size: 12px\;">Greater Fergus Falls\, NeTia Bauman</span></font></li>\n	<li><font color="#000000"><span style="font-size: 12px\;">A Center for the Arts\, Michael Burgraff</span></font></li>\n</ul>\n
LOCATION:Fergus Falls YMCA Community Room 1164 N. Friberg Ave. Fergus Falls\, MN
UID:e.314.24272
SEQUENCE:3
DTSTAMP:20260422T171941Z
URL:https://business.fergusfalls.com/events/details/chamber-cafe-hosted-by-noon-kiwanis-ymca-24272
END:VEVENT

END:VCALENDAR
