BEGIN:VCALENDAR
VERSION:2.0
PRODID:-//ChamberMaster//Event Calendar 2.0//EN
METHOD:PUBLISH
X-PUBLISHED-TTL:P3D
REFRESH-INTERVAL:P3D
CALSCALE:GREGORIAN
BEGIN:VEVENT
DTSTART:20151112T133000Z
DTEND:20151112T150000Z
X-MICROSOFT-CDO-ALLDAYEVENT:FALSE
SUMMARY:Chamber Cafe @ LB Homes: Business Networking - Get Community "behind the scenes" Info
DESCRIPTION:"Chamber Cafe" is a bi-monthly casual gathering where you will find out what's going on "behind the scenes" in the community.  Enjoy a light breakfast & networking. At the end\, one name will be drawn for "Half the Cash." If you like being "in the know" then to this event you'll want to go.\n\nHosted by LB Homes - Celebrating 100 Years~\n\nFor just $3 Chamber members ($8 general public)\, you will hear brief (up to 3 minutes) updates from guest speakers:\n\nLB Homes\n\nBridget Leonard\, Turkey Trot\n\nJim Arvidson\, Sr. Perspective (new member)\n\nKelli Drayton\, YMCA\n\nChris Waltz\, Otter Tail Power Co\n\nKathy Lehn\, Lake Region Healthcare\n\nShawna Shale\, Cooper's Technology\n\nJason McCoy\, PartnerSHIP for Health - Smoking Cessation\n\nMelissa Davis\, Ladies Ducks Unlimited - Maidens of the Marshes \n\nAlex Nelson\, Nelson Auto Center Law Enforcement Appreciation Day\n\nDan Zierden - Fergus Home & Hardware\n\nChris Schuelke - Otter Tail Co. Historical Society
X-ALT-DESC;FMTTYPE=text/html:<div><span style="color:#000000\;"><span style="font-family:tahoma\;"><strong>&quot\;Chamber Cafe&quot\; </strong>is a bi-monthly casual gathering where you will find out what&#39\;s going on &quot\;behind the scenes&quot\;&nbsp\;in the community.&nbsp\; Enjoy a light breakfast &amp\; networking. At the end\, one name will be drawn for &quot\;Half the Cash.&quot\;&nbsp\;If you like being &quot\;in the know&quot\; then to&nbsp\;this&nbsp\;event you&#39\;ll want to go.<br />\n<em><strong>Hosted by LB Homes - Celebrating 100 Years~</strong></em></span></span></div>\n\n<div><span style="color:#000000\;"><span style="font-family:tahoma\;">For just $3 Chamber members ($8 general public)\, you&nbsp\;will hear brief (up to 3 minutes) updates from&nbsp\;guest speakers:</span></span></div>\n\n<div><span style="color:#000000\;"><span style="font-family:tahoma\;"><span style="font-size: 11px\;"><strong>LB Homes</strong></span></span></span></div>\n\n<div><span style="color:#000000\;"><span style="font-family:tahoma\;"><span style="font-size: 11px\;"><strong>Bridget Leonard\, Turkey Trot</strong></span></span></span></div>\n\n<div><span style="color:#000000\;"><span style="font-family:tahoma\;"><span style="font-size: 11px\;"><strong>Jim Arvidson\, Sr. Perspective (new member)<br />\nKelli Drayton\, YMCA<br />\nChris Waltz\, Otter Tail Power Co<br />\nKathy Lehn\, Lake Region Healthcare<br />\nShawna Shale\, Cooper&#39\;s Technology<br />\nJason McCoy\, PartnerSHIP for Health - Smoking Cessation<br />\nMelissa Davis\, Ladies Ducks Unlimited - Maidens of the Marshes&nbsp\;<br />\nAlex Nelson\, Nelson Auto Center Law Enforcement Appreciation Day<br />\nDan Zierden - Fergus Home &amp\; Hardware<br />\nChris Schuelke -&nbsp\;Otter Tail Co. Historical Society</strong></span></span></span></div>\n
LOCATION:Broen Home - Light & Life Auditorium (next to Alcott Manor) 418 E. Alcott Ave. -- Best Parking on Alcott. Fergus Falls\, MN
UID:e.314.24247
SEQUENCE:3
DTSTAMP:20260426T011850Z
URL:https://business.fergusfalls.com/events/details/chamber-cafe-lb-homes-business-networking-get-community-behind-the-scenes-info-11-12-2015-24247
END:VEVENT

END:VCALENDAR
