BEGIN:VCALENDAR
VERSION:2.0
PRODID:-//ChamberMaster//Event Calendar 2.0//EN
METHOD:PUBLISH
X-PUBLISHED-TTL:P3D
REFRESH-INTERVAL:P3D
CALSCALE:GREGORIAN
BEGIN:VEVENT
DTSTART:20180913T123000Z
DTEND:20180913T140000Z
X-MICROSOFT-CDO-ALLDAYEVENT:FALSE
SUMMARY:Chamber Cafe @ M State
DESCRIPTION:"Chamber Cafe" is a bi-monthly casual gathering where you will find out what's going on "behind the scenes" in the community. Enjoy refreshments & networking. At the end\, BUSINESS CARD will be drawn for "Half the Cash" -must be present to win. If you like being "in the know" then to this event\, you'll want to go.  A delicious light breakfast will be served.  Hosted by Minnesota State & Technical College (M State)- Fergus Falls Campus   For just $5 Chamber members ($10 public)\, you will hear brief updates from speakers:  \n\n	Hosts - M State: Carrie Brimhall - President \n	Karen Reilly   M State \n	Lori Larson - Fergus Area College Foundation \n	Dave Cornell - Cultivate Courage LLC\n	Jaime Price Anderson - AAUW - M State\n	Natalie Knutson - Lake Region Healthcare\n	Shawna Shale - Fergus Falls Downtown Riverfront Council\n	Mary Matteson - Community Ed.\n	Brandi Mounts - Otter Tail Telcom/Park Region Telephone\n	Kriss Burns - PRO Resources \n	Marie Fouquette - Freedom Resource Center\n	Kathy Evavold - Otter Tail County Historical Society \n	Carol Juul - Thrivent Financial\n	Samantha VanWechel-Meyer  -  YMCA \n	Jeanne Jensen-Concert Series\n	Krista Hagberg - Turkey Trot
X-ALT-DESC;FMTTYPE=text/html:<span style="font-size: medium\;"><span style="font-family: calibri\;"><strong>&quot\;Chamber Cafe&quot\; </strong>is a bi-monthly casual gathering where you will find out what&#39\;s going on &quot\;behind the scenes&quot\; in the community. Enjoy refreshments &amp\; networking. At the end\, BUSINESS CARD will be drawn for <strong>&quot\;Half the Cash&quot\; -</strong>must be present to win. <strong>If you like being &quot\;in the know&quot\; then to this event\, you&#39\;ll want to go</strong>. &nbsp\;A delicious light breakfast will be served.&nbsp\; <strong><em><span style="color: rgb(0\, 32\, 96)\;">Hosted by Minnesota State &amp\; Technical College (M State)- Fergus Falls Campus</span></em>&nbsp\;</strong>&nbsp\; For just $5 Chamber members ($10 public)\, you will hear brief updates from speakers:&nbsp\; </span></span>\n<ol>\n	<li><strong><span style="font-size: medium\;"><span style="font-family: calibri\;">Hosts - M State: </span></span></strong><span style="font-size: medium\;"><span style="font-family: calibri\;">Carrie Brimhall - President </span></span></li>\n	<li><span style="font-size: medium\;"><span style="font-family: calibri\;">Karen Reilly &ndash\; M State </span></span></li>\n	<li><span style="font-size: medium\;"><span style="font-family: calibri\;">Lori Larson - Fergus Area College Foundation </span></span></li>\n	<li><span style="font-size: medium\;"><span style="font-family: calibri\;">Dave Cornell - Cultivate Courage LLC</span></span></li>\n	<li><span style="font-size: medium\;"><span style="font-family: calibri\;">Jaime Price Anderson - AAUW - M State</span></span></li>\n	<li><span style="font-size: medium\;"><span style="font-family: calibri\;">Natalie Knutson - Lake Region Healthcare</span></span></li>\n	<li><span style="font-size: medium\;"><span style="font-family: calibri\;">Shawna Shale - Fergus Falls Downtown Riverfront Council</span></span></li>\n	<li><span style="font-size: medium\;"><span style="font-family: calibri\;">Mary Matteson - Community Ed.</span></span></li>\n	<li><span style="font-size: medium\;"><span style="font-family: calibri\;">Brandi Mounts - Otter Tail Telcom/Park Region Telephone</span></span></li>\n	<li><span style="font-size: medium\;"><span style="font-family: calibri\;">Kriss Burns - PRO Resources </span></span></li>\n	<li><span style="font-size: medium\;"><span style="font-family: calibri\;">Marie Fouquette - Freedom Resource Center</span></span></li>\n	<li><span style="font-size: medium\;"><span style="font-family: calibri\;">Kathy Evavold - Otter Tail County Historical Society&nbsp\;</span></span></li>\n	<li><span style="font-size: medium\;"><span style="font-family: calibri\;">Carol Juul - Thrivent Financial</span></span></li>\n	<li><span style="font-size: medium\;"><span style="font-family: calibri\;">Samantha VanWechel-Meyer&nbsp\; -&nbsp\;</span></span><span style="font-size: medium\;"><span style="font-family: calibri\;">&nbsp\;YMCA </span></span></li>\n	<li><span style="font-size: medium\;"><span style="font-family: calibri\;">Jeanne Jensen-Concert Series</span></span></li>\n	<li><span style="font-size: medium\;"><span style="font-family: calibri\;">Krista Hagberg - Turkey Trot</span></span></li>\n</ol>\n
LOCATION:M State Fergus Falls Legacy Hall 1414 College Way Fergus Falls\, MN
UID:e.314.24264
SEQUENCE:3
DTSTAMP:20260423T164158Z
URL:https://business.fergusfalls.com/events/details/chamber-cafe-m-state-24264
END:VEVENT

END:VCALENDAR
