BEGIN:VCALENDAR
VERSION:2.0
PRODID:-//ChamberMaster//Event Calendar 2.0//EN
METHOD:PUBLISH
X-PUBLISHED-TTL:P3D
REFRESH-INTERVAL:P3D
CALSCALE:GREGORIAN
BEGIN:VEVENT
DTSTART:20190306T163000Z
DTEND:20190306T170000Z
X-MICROSOFT-CDO-ALLDAYEVENT:FALSE
SUMMARY:Chamber Cafe On the Air - 1250AM-KBRF
DESCRIPTION:The Fergus Falls Area Chamber of Commerce is on the air with Chamber Cafe.\n\n10:35am
X-ALT-DESC;FMTTYPE=text/html:The Fergus Falls Area Chamber of Commerce is on the air with Chamber Cafe.<br />\n10:35am
LOCATION:On the radio - 1250AM KBRF
UID:e.314.12252
SEQUENCE:3
DTSTAMP:20260423T081150Z
URL:https://business.fergusfalls.com/events/details/chamber-cafe-on-the-air-1250am-kbrf-03-06-2019-12252
END:VEVENT

END:VCALENDAR
