BEGIN:VCALENDAR
VERSION:2.0
PRODID:-//ChamberMaster//Event Calendar 2.0//EN
METHOD:PUBLISH
X-PUBLISHED-TTL:P3D
REFRESH-INTERVAL:P3D
CALSCALE:GREGORIAN
BEGIN:VEVENT
DTSTART:20190509T123000Z
DTEND:20190509T140000Z
X-MICROSOFT-CDO-ALLDAYEVENT:FALSE
SUMMARY:Chamber Cafe @ Public Library - Small Business Appreciation
DESCRIPTION:"Chamber Cafe" Focus on Small Businesses May 9.\n\nChamber Cafe is a bi-monthly casual gathering where you will find out what's going on "behind the scenes" in the community.  Enjoy a light breakfast & networking. At the end\, one business card will be drawn for "Half the Cash."\n\nHosted by the Fergus Falls Public Library  For just $5 Chamber members ($10 general public)\, you will hear brief updates from speakers. In celebration of National Small Business Week\, small business owners attend for FREE and we'll feature small business members as speakers!\n\n	Erin Smith\, Fergus Falls Public Library\n	Chris Schuelke\, OT Co. Historical Society\n	Lori Larson\, Fergus Area College Foundation\n	Sheri Meis\, AFLAC\n	Lynn Brand\, Fergus Falls Farmers Market\n	Megan Beckler\, Multi Business Solutions\n	Karoline Gustafson\, Crossfit Fergus Falls\n	Jackie Hendrickson\, StoneL\n	Larry Dorn\, Dorn & Co.\n	Linda Hauge\, BPW\n	Mike Erlandson\, Captain Clean\n	Jessica Lopez\, Visionary Inc.\n	Shawn Krause-Roberts\, OSPTI\n	Grant Davenport\, Davenport Insurance Agency\n	Katherine Robbins\, Summerfest\n	Scott Christison\, Lakes Area Web Services\n	Brian Riches\, Country Financial\n	Someplace Safe\, Emilyn Haugen\n	Bridget Leonard\, Kindred Family Focus\n	Jim Arvidson\, Sr. Perspective\n	Kriss Burns\, PRO Resources\n	Samantha VanWechel-Meyer\, YMCA\n	Sue Wilken\, A Place to Belong
X-ALT-DESC;FMTTYPE=text/html:<span style="color:#000000\;"><span style="font-family:verdana\;"><strong>&quot\;Chamber Cafe&quot\; Focus on Small Businesses May 9.</strong><br />\nChamber Cafe&nbsp\;is a bi-monthly casual gathering where you will find out what&#39\;s going on &quot\;behind the scenes&quot\;&nbsp\;in the community.&nbsp\; Enjoy a light breakfast &amp\; networking. At the end\, one business card will be drawn for &quot\;Half the Cash.&quot\;<br />\n<em>Hosted by the Fergus Falls Public Library&nbsp\;&nbsp\;</em>For just $5 Chamber members ($10 general public)\, you&nbsp\;will hear brief updates from speakers.<strong> In celebration of National Small Business Week\, small business owners attend for FREE and we&#39\;ll feature small business members as speakers!</strong></span></span>\n<ul>\n	<li><span style="color:#000000\;"><span style="font-family:verdana\;">Erin Smith\, Fergus Falls Public Library</span></span></li>\n	<li><span style="color: rgb(0\, 0\, 0)\;"><span style="font-family: verdana\;">Chris Schuelke\, OT Co. Historical Society</span></span></li>\n	<li><span style="color:#000000\;"><span style="font-family:verdana\;">Lori Larson\, Fergus Area College Foundation</span></span></li>\n	<li><span style="color:#000000\;"><span style="font-family:verdana\;">Sheri Meis\, AFLAC</span></span></li>\n	<li><span style="color:#000000\;"><span style="font-family:verdana\;">Lynn Brand\, Fergus Falls Farmers Market</span></span></li>\n	<li><span style="color:#000000\;"><span style="font-family:verdana\;">Megan Beckler\, Multi Business Solutions</span></span></li>\n	<li><span style="color:#000000\;"><span style="font-family:verdana\;">Karoline Gustafson\, Crossfit Fergus Falls</span></span></li>\n	<li><span style="color:#000000\;"><span style="font-family:verdana\;">Jackie Hendrickson\, StoneL</span></span></li>\n	<li><span style="color:#000000\;"><span style="font-family:verdana\;">Larry Dorn\, Dorn &amp\; Co.</span></span></li>\n	<li><span style="color:#000000\;"><span style="font-family: verdana\;">Linda Hauge\, BPW</span></span></li>\n	<li><span style="color:#000000\;"><span style="font-family:verdana\;">Mike Erlandson\, Captain Clean</span></span></li>\n	<li><span style="color:#000000\;"><span style="font-family:verdana\;">Jessica Lopez\, Visionary Inc.</span></span></li>\n	<li><span style="color:#000000\;"><span style="font-family:verdana\;">Shawn Krause-Roberts\, OSPTI</span></span></li>\n	<li><span style="color:#000000\;"><span style="font-family:verdana\;">Grant Davenport\, Davenport Insurance Agency</span></span></li>\n	<li><span style="color:#000000\;"><span style="font-family: verdana\;">Katherine Robbins\, Summerfest</span></span></li>\n	<li><span style="color:#000000\;"><span style="font-family:verdana\;">Scott Christison\, Lakes Area Web Services</span></span></li>\n	<li><span style="color:#000000\;"><span style="font-family:verdana\;">Brian Riches\, Country Financial</span></span></li>\n	<li><span style="color:#000000\;"><span style="font-family:verdana\;">Someplace Safe\, Emilyn Haugen</span></span></li>\n	<li><span style="color:#000000\;"><span style="font-family:verdana\;">Bridget Leonard\, Kindred Family Focus</span></span></li>\n	<li><span style="color:#000000\;"><span style="font-family:verdana\;">Jim Arvidson\, Sr. Perspective</span></span></li>\n	<li><span style="color:#000000\;"><span style="font-family: verdana\;">Kriss Burns\, PRO Resources</span></span></li>\n	<li><span style="color:#000000\;"><span style="font-family:verdana\;">Samantha VanWechel-Meyer\, YMCA</span></span></li>\n	<li><span style="color:#000000\;"><span style="font-family:verdana\;">Sue Wilken\, A Place to Belong</span></span></li>\n</ul>\n
LOCATION:Fergus Falls Public Library 205 E. Hampden Ave. Fergus Falls\, MN
UID:e.314.24267
SEQUENCE:3
DTSTAMP:20260423T050517Z
URL:https://business.fergusfalls.com/events/details/chamber-cafe-public-library-small-business-appreciation-24267
END:VEVENT

END:VCALENDAR
