BEGIN:VCALENDAR
VERSION:2.0
PRODID:-//ChamberMaster//Event Calendar 2.0//EN
METHOD:PUBLISH
X-PUBLISHED-TTL:P3D
REFRESH-INTERVAL:P3D
CALSCALE:GREGORIAN
BEGIN:VEVENT
DTSTART:20190403T153000Z
DTEND:20190403T160000Z
X-MICROSOFT-CDO-ALLDAYEVENT:FALSE
SUMMARY:Chamber CHAT On the Air - 1250AM-KBRF
DESCRIPTION:The Fergus Falls Area Chamber of Commerce is on the air with Chamber Chat.\n\n10:35am
X-ALT-DESC;FMTTYPE=text/html:The Fergus Falls Area Chamber of Commerce is on the air with Chamber Chat.<br />\n10:35am
LOCATION:Leighton Broadcasting studio 728 Western Ave. Fergus Falls\, MN Tune in: 1250AM KBRF
UID:e.314.12253
SEQUENCE:3
DTSTAMP:20260423T063106Z
URL:https://business.fergusfalls.com/events/details/chamber-chat-on-the-air-1250am-kbrf-12253
END:VEVENT

END:VCALENDAR
