BEGIN:VCALENDAR
VERSION:2.0
PRODID:-//ChamberMaster//Event Calendar 2.0//EN
METHOD:PUBLISH
X-PUBLISHED-TTL:P3D
REFRESH-INTERVAL:P3D
CALSCALE:GREGORIAN
BEGIN:VEVENT
DTSTART:20160417T190000Z
DTEND:20160417T203000Z
X-MICROSOFT-CDO-ALLDAYEVENT:FALSE
SUMMARY:Chamber Chorale Showcase
DESCRIPTION:Guest conductor Bryan Poyzer will lead the Minnesota State Community and Technical College Chamber Chorale in its spring Showcase at 2 p.m. Sunday\, April 17\, in Legacy Hall on the Fergus Falls campus.\n\n\n\nThe Chamber Chorale will present a variety of literature featuring pieces accompanied by Sylvia Nygaard on piano\, Tom Rasmusson on percussion and Laurie Strom's string ensemble. The concert also will feature several smaller vocal ensembles performing styles ranging from vocal jazz to folk music.\n\n\n\nPoyzer\, of Elbow Lake\, is director of choral activities at North Dakota State College of Science in Wahpeton.\n\n"I am excited for the public to hear the Chorale but also to hear some of the wonderful ensembles that exist within the group\," Poyzer said. "This concert is truly a showcase of their talent!"\n\n\n\nThe Chamber Chorale is comprised of 60 M State singers from area communities including Fergus Falls\, Battle Lake\, Pelican Rapids\, Henning\, Moorhead and Fargo.\n\n\n\nTickets are $9 in advance and $11 at the door for adults\, and $7 in advance and $8 at the door for students. Tickets can be purchased at the M State box office from 9 a.m. to 4 p.m. Monday through Friday and one hour prior to the performance\, by calling 218.736.1600 or online at mstatetickets.com.
X-ALT-DESC;FMTTYPE=text/html:<p>Guest conductor Bryan Poyzer will lead the Minnesota State Community and Technical College Chamber Chorale in its spring Showcase at 2 p.m. Sunday\, April 17\, in Legacy Hall on the Fergus Falls campus.<br />\n<br />\nThe Chamber Chorale will present a variety of literature featuring pieces accompanied by Sylvia Nygaard on piano\, Tom Rasmusson on percussion and Laurie Strom&rsquo\;s string ensemble. The concert also will feature several smaller vocal ensembles performing styles ranging from vocal jazz to folk music.<br />\n<br />\nPoyzer\, of Elbow Lake\, is director of choral activities at North Dakota State College of Science in Wahpeton.<br />\n&ldquo\;I am excited for the public to hear the Chorale but also to hear some of the wonderful ensembles that exist within the group\,&rdquo\; Poyzer said. &ldquo\;This concert is truly a showcase of their talent!&rdquo\;<br />\n<br />\nThe Chamber Chorale is comprised of 60 M State singers from area communities including Fergus Falls\, Battle Lake\, Pelican Rapids\, Henning\, Moorhead and Fargo.<br />\n<br />\nTickets are $9 in advance and $11 at the door for adults\, and $7 in advance and $8 at the door for students. Tickets can be purchased at the M State box office from 9 a.m. to 4 p.m. Monday through Friday and one hour prior to the performance\, by calling 218.736.1600 or online at mstatetickets.com.</p>\n
LOCATION:Legacy Hall on the M State Fergus Falls campus
UID:e.314.32548
SEQUENCE:3
DTSTAMP:20260425T162910Z
URL:https://business.fergusfalls.com/events/details/chamber-chorale-showcase-04-17-2016-32548
END:VEVENT

END:VCALENDAR
