BEGIN:VCALENDAR
VERSION:2.0
PRODID:-//ChamberMaster//Event Calendar 2.0//EN
METHOD:PUBLISH
X-PUBLISHED-TTL:P3D
REFRESH-INTERVAL:P3D
CALSCALE:GREGORIAN
BEGIN:VEVENT
DTSTART:20210727T163000Z
DTEND:20210727T173000Z
X-MICROSOFT-CDO-ALLDAYEVENT:FALSE
SUMMARY:Chamber Connect 4 Lunch
DESCRIPTION:Let's get together for lunch and rally for our restaurants at "Connect 4 Lunch" on Tuesdays at 11:30am at a different Chamber member restaurant each week. We want to make it easy for you to stay connected to other Chamber members\, meet new people and strengthen existing relationships.\n\n\n\nChamber members are invited to attend a casual networking lunch while supporting our local restaurants. Lunch is "Dutch Treat" (you pay for your own) and we'll have up to 4 people seated at a table. Chamber staff or a volunteer will greet you at the door and introduce you to other guests.  Please bring business cards to exchange. One lucky person will win a restaurant gift card to be used at a future visit. \n\n\n\nPlease RSVP so we can make sure there is adequate space for social distancing.\n\n\n\nLet's stay SAFE & Remember the 4 Ws: If you don't feel WELL\, stay home. WEAR a mask. WATCH your distance. WASH your hands.\n\n\n\nThe staff at Don Pablo's welcomes you as they celebrate their 17th year in business in Fergus Falls. Their staff has received the COVID-19 vaccination.
X-ALT-DESC;FMTTYPE=text/html:<span style="font-size:12px\;"><span style="font-family:verdana\;">Let&#39\;s get together for lunch and rally for our restaurants at &quot\;Connect 4 Lunch&quot\; on Tuesdays at 11:30am at a different Chamber member restaurant each week. We want to make it easy for you to stay connected to other Chamber members\, meet new people and strengthen existing relationships.<br />\n<br />\nChamber members are invited to attend a casual networking lunch while supporting our local restaurants. Lunch is &quot\;Dutch Treat&quot\; (you pay for your own) and we&#39\;ll have up to 4 people seated at a table.&nbsp\;Chamber staff or a volunteer will greet you at the door and introduce you to other guests.&nbsp\; Please bring business cards to exchange. One lucky person will win a restaurant gift card to be used at a future visit.&nbsp\;<br />\n<br />\n<strong>Please RSVP so we can make sure there is adequate space for social distancing.</strong><br />\n<br />\nLet&#39\;s stay SAFE &amp\; Remember the 4 Ws: If you don&#39\;t feel WELL\, stay home. WEAR a mask. WATCH your distance. WASH your hands.<br />\n<br />\nThe staff at Don Pablo&#39\;s welcomes you as they celebrate their 17th year in business in Fergus Falls. Their staff has received the COVID-19 vaccination.</span></span><br />\n<br />\n&nbsp\;
LOCATION:Different Chamber Member restaurant each week Tuesday\, April 6 Don Pablo's Family Mexican Restaurant 108 E. Lincoln Ave. Fergus Falls\, MN
UID:e.314.61039
SEQUENCE:3
DTSTAMP:20260421T122943Z
URL:https://business.fergusfalls.com/events/details/chamber-connect-4-lunch-07-27-2021-61039
END:VEVENT

END:VCALENDAR
