BEGIN:VCALENDAR
VERSION:2.0
PRODID:-//ChamberMaster//Event Calendar 2.0//EN
METHOD:PUBLISH
X-PUBLISHED-TTL:P3D
REFRESH-INTERVAL:P3D
CALSCALE:GREGORIAN
BEGIN:VEVENT
DTSTART:20160706T143500Z
DTEND:20160706T150000Z
X-MICROSOFT-CDO-ALLDAYEVENT:FALSE
SUMMARY:Chamber featured on "Morning Talk Magazine"
DESCRIPTION:Join hosts Mary Dolan and Chamber Director Lisa Workman on "Morning Talk Magazine" on 1250AM KBRF at 9:35 on Wednesday mornings to hear from local experts on a variety of topics.
X-ALT-DESC;FMTTYPE=text/html:Join hosts Mary Dolan and Chamber Director Lisa Workman on &quot\;Morning Talk Magazine&quot\; on 1250AM KBRF at 9:35 on Wednesday mornings to hear from local experts on a variety of topics.
LOCATION:Lakes Radio Studio: 925 Western Ave.\, Fergus Falls\, MN -- across from American National Bank On Air: 1250AM KBRF
UID:e.314.16914
SEQUENCE:3
DTSTAMP:20260425T130233Z
URL:https://business.fergusfalls.com/events/details/chamber-featured-on-morning-talk-magazine-07-06-2016-16914
END:VEVENT

END:VCALENDAR
