BEGIN:VCALENDAR
VERSION:2.0
PRODID:-//ChamberMaster//Event Calendar 2.0//EN
METHOD:PUBLISH
X-PUBLISHED-TTL:P3D
REFRESH-INTERVAL:P3D
CALSCALE:GREGORIAN
BEGIN:VEVENT
DTSTART:20171122T153500Z
DTEND:20171122T160000Z
X-MICROSOFT-CDO-ALLDAYEVENT:FALSE
SUMMARY:Chamber featured on "Morning Talk Magazine"
DESCRIPTION:Join hosts Mary Dolan and Chamber Director Lisa Workman on "Morning Talk Magazine" on 1250AM KBRF at 9:35 on Wednesday mornings to hear from local experts on a variety of topics.
X-ALT-DESC;FMTTYPE=text/html:Join hosts Mary Dolan and Chamber Director Lisa Workman on &quot\;Morning Talk Magazine&quot\; on 1250AM KBRF at 9:35 on Wednesday mornings to hear from local experts on a variety of topics.
LOCATION:Leighton Broadcasting Studio 925 Western Ave.\, Fergus Falls\, MN -- across from American National Bank On Air: 1250AM KBRF
UID:e.314.16986
SEQUENCE:3
DTSTAMP:20260424T074456Z
URL:https://business.fergusfalls.com/events/details/chamber-featured-on-morning-talk-magazine-11-22-2017-16986
END:VEVENT

END:VCALENDAR
