BEGIN:VCALENDAR
VERSION:2.0
PRODID:-//ChamberMaster//Event Calendar 2.0//EN
METHOD:PUBLISH
X-PUBLISHED-TTL:P3D
REFRESH-INTERVAL:P3D
CALSCALE:GREGORIAN
BEGIN:VEVENT
DTSTART:20180920T170000Z
DTEND:20180920T220000Z
X-MICROSOFT-CDO-ALLDAYEVENT:FALSE
SUMMARY:Chamber Grand Opening & Open House
DESCRIPTION:Join us as we celebrate the completion of our renovation.\n\n12:15pm Ribbon Cutting\n\n12:00-4:00pm Open House & Refreshments\n\n4:00pm Forward @ Four
X-ALT-DESC;FMTTYPE=text/html:Join us as we celebrate the completion of our renovation.<br />\n12:15pm Ribbon Cutting<br />\n12:00-4:00pm Open House &amp\; Refreshments<br />\n4:00pm Forward @ Four
LOCATION:Fergus Falls Area Chamber of Commerce 202 S. Court St. Fergus Falls\, MN 56537
UID:e.314.50284
SEQUENCE:3
DTSTAMP:20260423T165229Z
URL:https://business.fergusfalls.com/events/details/chamber-grand-opening-open-house-50284
END:VEVENT

END:VCALENDAR
