BEGIN:VCALENDAR
VERSION:2.0
PRODID:-//ChamberMaster//Event Calendar 2.0//EN
METHOD:PUBLISH
X-PUBLISHED-TTL:P3D
REFRESH-INTERVAL:P3D
CALSCALE:GREGORIAN
BEGIN:VEVENT
DTSTART:20190425T160000Z
DTEND:20190425T180000Z
X-MICROSOFT-CDO-ALLDAYEVENT:FALSE
SUMMARY:Chamber Lunch & Learn: HR for Small Businesses
DESCRIPTION:Human Help: Advice for the Employee Life Cycle. \n\nWe are going to be covering the beginning\, middle\, and end of the employee life cycle for small businesses. What do you need to consider prior to hiring an employee? What about after they are hired\, what do I do now? How do I help to ensure success in their new career? What if an employee doesn't work out or decides to leave? Specific topics will include:\n\n1. Pre-hiring work including job description/job posting\, interviewing\, and selecting a candidate.\n\n2. Employee Onboarding and Training.\n\n3. Evaluations/Feedback and Communication.\n\n4. Terminations - voluntary/involuntary - and Starting Over/Lessons Learned.\n\n	Presented by Natalie Remund\, Multi-Business Solutions\n\nOpen to Members of the Fergus Falls Chamber. $20 fee includes lunch. RSVP to Jennifer Fronning\, Chamber Operations Coordinator: 218-736-6951 or chamber@FergusFalls.com
X-ALT-DESC;FMTTYPE=text/html:<span style="font-size: 12px\;"><span style="color: rgb(0\, 0\, 0)\;"><span style="font-family: verdana\;"><span style="font-size: 14px\;"><strong>Human Help: Advice for the Employee Life Cycle.&nbsp\;</strong></span><br />\nWe are going to be covering the beginning\, middle\, and end of the employee life cycle for small businesses. What do you need to consider prior to hiring an employee? What about after they are hired\, what do I do now? How do I help to ensure success in their new career? What if an employee doesn&#39\;t work out or decides to leave? Specific topics will include:<br />\n1. Pre-hiring work including job description/job posting\, interviewing\, and selecting a candidate.<br />\n2. Employee Onboarding and Training.<br />\n3. Evaluations/Feedback and Communication.<br />\n4. Terminations - voluntary/involuntary - and Starting Over/Lessons Learned.</span></span></span>\n<ul>\n	<li><span style="font-size: 12px\;"><span style="color: rgb(0\, 0\, 0)\;"><span style="font-family: verdana\;">Presented by Natalie Remund\, Multi-Business Solutions</span></span></span></li>\n</ul>\n<span style="font-size: 12px\;"><span style="font-family: verdana\;"><span style="color: rgb(0\, 0\, 0)\;">Open to Members of the Fergus Falls Chamber. $20 fee includes lunch. RSVP to Jennifer Fronning\,&nbsp\;Chamber Operations Coordinator: 218-736-6951 or </span><a href="mailto:Info@FergusFalls.com"><span style="color: rgb(0\, 0\, 0)\;">chamber@FergusFalls.com</span></a></span></span>
LOCATION:Fergus Falls Area Chamber of Commerce 202 S. Court St. Fergus Falls\, MN
UID:e.314.52784
SEQUENCE:3
DTSTAMP:20260423T075801Z
URL:https://business.fergusfalls.com/events/details/chamber-lunch-learn-hr-for-small-businesses-52784
END:VEVENT

END:VCALENDAR
