BEGIN:VCALENDAR
VERSION:2.0
PRODID:-//ChamberMaster//Event Calendar 2.0//EN
METHOD:PUBLISH
X-PUBLISHED-TTL:P3D
REFRESH-INTERVAL:P3D
CALSCALE:GREGORIAN
BEGIN:VEVENT
DTSTART;VALUE=DATE:20180903
DTEND;VALUE=DATE:20180904
TRANSP:TRANSPARENT
X-MICROSOFT-CDO-ALLDAYEVENT:TRUE
SUMMARY:Chamber Office Closed - Labor Day
DESCRIPTION:Chamber Office - Labor Day
X-ALT-DESC;FMTTYPE=text/html:Chamber Office - Labor Day
LOCATION:
UID:e.314.50341
SEQUENCE:3
DTSTAMP:20260423T181013Z
URL:https://business.fergusfalls.com/events/details/chamber-office-closed-labor-day-50341
END:VEVENT

END:VCALENDAR
