BEGIN:VCALENDAR
VERSION:2.0
PRODID:-//ChamberMaster//Event Calendar 2.0//EN
METHOD:PUBLISH
X-PUBLISHED-TTL:P3D
REFRESH-INTERVAL:P3D
CALSCALE:GREGORIAN
BEGIN:VEVENT
DTSTART;VALUE=DATE:20180502
DTEND;VALUE=DATE:20180503
TRANSP:TRANSPARENT
X-MICROSOFT-CDO-ALLDAYEVENT:TRUE
SUMMARY:Chamber Office Renovation Fundraising Campaign
DESCRIPTION:It's time for the "Front Door" of Fergus Falls to receive a facelift\, the first major update in 50 years. The four main goals of our renovation are to:\n\n	Enhance the Image of Fergus Falls Business Community\n	Spark Downtown Riverfront Development\n	Highlight the RiverWalk and Otter Tail River\n	Create a Healthy\, Safe Space for Staff and Volunteers\n\nThe office renovation will include a new\, higher roofline and updated fa ade to reflect the image of our successful and progressive community. The entire interior will be demolished to make way for new Vector windows\, insulation\, electrical\, plumbing\, heating\, lighting\, air conditioning and technology   along with a more efficient floor plan. We are thrilled to feature as many Chamber member businesses' services and products as we can. We consider our office a 'showroom' of the high-quality businesses that make up our community. We invite you to invest in our community's "front door" and visitor information center.\n\n\n\nClick here for Pledge Form
X-ALT-DESC;FMTTYPE=text/html:<span style="font-family: verdana\;"><span style="color: rgb(0\, 0\, 0)\;">It&rsquo\;s time for the &ldquo\;Front Door&rdquo\; of Fergus Falls to receive a facelift\, the first major update in 50 years. The four main goals of our renovation are to:</span></span>\n<ol>\n	<li><strong><span style="font-family: verdana\;"><span style="color: rgb(0\, 0\, 0)\;">Enhance the Image of Fergus Falls Business Community</span></span></strong></li>\n	<li><strong><span style="font-family: verdana\;"><span style="color: rgb(0\, 0\, 0)\;">Spark Downtown Riverfront Development</span></span></strong></li>\n	<li><strong><span style="font-family: verdana\;"><span style="color: rgb(0\, 0\, 0)\;">Highlight the RiverWalk and Otter Tail River</span></span></strong></li>\n	<li><strong><span style="font-family: verdana\;"><span style="color: rgb(0\, 0\, 0)\;">Create a Healthy\, Safe Space for Staff and Volunteers</span></span></strong></li>\n</ol>\n<span style="color: rgb(0\, 0\, 0)\;"><span style="font-family: verdana\;">The office renovation will include a new\, higher roofline and updated fa&ccedil\;ade&nbsp\;to reflect the image of our successful and progressive community. The entire interior will be demolished to make way for new Vector windows\, insulation\, electrical\, plumbing\, heating\, lighting\, air conditioning and technology &ndash\; along with a more efficient floor plan. We are thrilled to feature as many Chamber member businesses&rsquo\; services and products as we can. We consider our office a &lsquo\;showroom&rsquo\; of the high-quality businesses that make up our community. We invite you to invest in our community&#39\;s &quot\;front door&quot\; and visitor information center.</span></span><br />\n<br />\n<strong><a href="https://chambermaster.blob.core.windows.net/userfiles/UserFiles/chambers/314/File/ChamberBeginsRenovationBridgetotheFutureApril2018MemberCommunication.pdf"><u>Click here&nbsp\;for Pledge Form </u></a></strong><br />\n&nbsp\;&nbsp\;&nbsp\;
LOCATION:202 S. Court Street (renovation location) Online Fundraiser Temporary Office 403 S. Union Ave. Fergus Falls\, MN 56537
UID:e.314.47681
SEQUENCE:3
DTSTAMP:20260423T225021Z
URL:https://business.fergusfalls.com/events/details/chamber-office-renovation-fundraising-campaign-05-02-2018-47681
END:VEVENT

END:VCALENDAR
