BEGIN:VCALENDAR
VERSION:2.0
PRODID:-//ChamberMaster//Event Calendar 2.0//EN
METHOD:PUBLISH
X-PUBLISHED-TTL:P3D
REFRESH-INTERVAL:P3D
CALSCALE:GREGORIAN
BEGIN:VEVENT
DTSTART:20180629T150000Z
DTEND:20180629T150000Z
X-MICROSOFT-CDO-ALLDAYEVENT:FALSE
SUMMARY:Chamber Ribbon Cutting-BeMobile Inc.
DESCRIPTION:Ribbon Cutting Ceremony - BeMobile Inc. Grand Reopening\n\n\n\nJoin Us as we help kick-off BeMobile's Grand ReOpening in Fergus Falls!\n\nWe would LOVE to have you join us!\n\n\n\nFollowing the ceremony\, feel free to meet their staff\, check out their store\, and stay for more FUN!\n\n \n\n\n$50 Tab E with purchase of Select Samsung Phones (S8\, S9\, S9+\, Note 8)\n\n\n\n$25 Gift Card with purchase of Gizmo Gadget or HUM\n\n\n\n$50 Gift Card with purchase of any smart watch or Arlo cam\n\n\n\nAsk us about waived activation or upgrade fees.
X-ALT-DESC;FMTTYPE=text/html:<strong>Ribbon Cutting Ceremony - BeMobile Inc.&nbsp\;Grand Reopening</strong><br />\n<br />\nJoin Us as we help kick-off BeMobile&#39\;s Grand ReOpening in Fergus Falls!<br />\nWe would LOVE to have you join us!<br />\n<br />\nFollowing the ceremony\, feel free to meet their staff\, check out their store\, and stay for more FUN!<br />\n&nbsp\;\n<div class="_63ew" data-testid="event-permalink-details"><br />\n<span>$50 Tab E with purchase of Select Samsung Phones (S8\, S9\, S9+\, Note 8)<br />\n<br />\n$25 Gift Card with purchase of Gizmo Gadget or HUM<br />\n<br />\n$50 Gift Card with purchase of any smart watch or Arlo cam<br />\n<br />\nAsk us about waived activation or upgrade fees.</span></div>\n
LOCATION:BeMobile Inc. (Fergus Falls\, MN) 409 West Lincoln Avenue
UID:e.314.50013
SEQUENCE:3
DTSTAMP:20260423T212902Z
URL:https://business.fergusfalls.com/events/details/chamber-ribbon-cutting-bemobile-inc-50013
END:VEVENT

END:VCALENDAR
