BEGIN:VCALENDAR
VERSION:2.0
PRODID:-//ChamberMaster//Event Calendar 2.0//EN
METHOD:PUBLISH
X-PUBLISHED-TTL:P3D
REFRESH-INTERVAL:P3D
CALSCALE:GREGORIAN
BEGIN:VEVENT
DTSTART:20180628T140000Z
DTEND:20180628T140000Z
X-MICROSOFT-CDO-ALLDAYEVENT:FALSE
SUMMARY:Chamber Ribbon Cutting Ceremony
DESCRIPTION:The Fergus Falls Chamber of Commerce will have a ribbon cutting ceremony in the lobby at 9:00 AM to celebrate the newly finished renovation with the Bigwood Event Center! \n\n\n\nThroughout the day\, everyone will have a chance to take a look at all the changes that the Country Inn & Suites as well as the Bigwood Event Center have gone through. They are also serving food all day! \n\n\n\nSee details from their Facebook page below:\n\n\n\n\n\n7:00 am - 9:00 am\n\nCome experience our full\, complimentary hotel breakfast!\n\n- Cereal\n\n- Waffles\n\n- Oatmeal\n\n- Biscuits & Gravy\n\n- Scrambled Eggs\n\n- Breakfast Sausage\n\n- Breakfast Breads & Pastries\n\n\n\nThe Fergus Falls Chamber of Commerce will have a ribbon cutting ceremony in the lobby at 9:00 AM.\n\n\n\n11:00 am - 2:00 pm\n\nJoin us for lunch in the Z Bar & Grill!\n\n- Soup & Salad Bar - $9 for Both or $6 for One\n\n- $9 Roast Beef Sandwich with Mashed Potatoes covered in Gravy and the Vegetable du Jour\n\n\n\n\n\n4:00 pm - 6:00 pm\n\nWe'll be grilling on our patio!\n\nComplimentary Picnic Buffet\n\n- Hamburgers & Brats\n\n- Sweetened Baked Beans\n\n- Creamy Potato Salad\n\n- Potato Chips\n\n- Keg Beer\n\n- Root Beer Floats\n\n- Sodas & Water\n\n\n\nCome to one or all of the listed times!
X-ALT-DESC;FMTTYPE=text/html:<strong>The Fergus Falls Chamber of Commerce will have a ribbon cutting ceremony in the lobby at 9:00 AM to celebrate the newly finished renovation with the Bigwood Event Center! </strong><br />\n<br />\nThroughout the day\, everyone will have a chance to take a look at all the changes that the Country Inn &amp\; Suites as well as the Bigwood Event Center have gone through.&nbsp\;They&nbsp\;are also serving food all day!&nbsp\;<br />\n<br />\nSee details&nbsp\;from their Facebook page below:<br />\n<br />\n<br />\n7:00 am - 9:00 am<br />\nCome experience our full\, complimentary hotel breakfast!<br />\n- Cereal<br />\n- Waffles<br />\n- Oatmeal<br />\n- Biscuits &amp\; Gravy<br />\n- Scrambled Eggs<br />\n- Breakfast Sausage<br />\n- Breakfast Breads &amp\; Pastries<br />\n<br />\nThe Fergus Falls Chamber of Commerce will have a ribbon cutting ceremony in the lobby at 9:00 AM.<br />\n<br />\n11:00 am - 2:00 pm<br />\nJoin us for lunch in the Z Bar &amp\; Grill!<br />\n- Soup &amp\; Salad Bar - $9 for Both or $6 for One<br />\n- $9 Roast Beef Sandwich with Mashed Potatoes covered in Gravy and the Vegetable du Jour<br />\n<br />\n<br />\n4:00 pm - 6:00 pm<br />\nWe&#39\;ll be grilling on our patio!<br />\nComplimentary Picnic Buffet<br />\n- Hamburgers &amp\; Brats<br />\n- Sweetened Baked Beans<br />\n- Creamy Potato Salad<br />\n- Potato Chips<br />\n- Keg Beer<br />\n- Root Beer Floats<br />\n- Sodas &amp\; Water<br />\n<br />\nCome to one or all of the listed times!
LOCATION:Thursday June 28 9am - Ribbon Cutting Ceremony Lobby of Bigwood Event Center Fergus Falls
UID:e.314.50012
SEQUENCE:3
DTSTAMP:20260423T225612Z
URL:https://business.fergusfalls.com/events/details/chamber-ribbon-cutting-ceremony-50012
END:VEVENT

END:VCALENDAR
