BEGIN:VCALENDAR
VERSION:2.0
PRODID:-//ChamberMaster//Event Calendar 2.0//EN
METHOD:PUBLISH
X-PUBLISHED-TTL:P3D
REFRESH-INTERVAL:P3D
CALSCALE:GREGORIAN
BEGIN:VEVENT
DTSTART:20210731T180000Z
DTEND:20210731T180000Z
X-MICROSOFT-CDO-ALLDAYEVENT:FALSE
SUMMARY:Chamber Sports Hall of Fame
DESCRIPTION:Chamber Sports Hall of Fame to induct six new members\n\n\n\n            The Fergus Falls Area Chamber of Commerce Sports Hall of Fame will honor six new inductees at 1 p.m. on Saturday\, July 31\, at the Pebble Lake Golf Course clubhouse. The event is open to the public.\n\n            Four awards were held over from 2020 due to the pandemic and two individuals have been selected for 2021.\n\n            Inductees for 2020 include former Fergus Falls Otter athletes Gordy Kvern\, class of 1960\; Mark Toso\, class of 1975\; Cathy Cranston\, class of 1976 and Larry Eisinger who was instrumental in organizing youth soccer programs in Fergus Falls. \n\n            The inductees for 2021 are Tom Glorvigen\, FFHS athlete and class of 1960\, and Matt Morstad\, Otter athlete and FFHS class of 1995.\n\n            This brings to 95 the total number of inductees into the Chamber Sports Hall of Fame. Charter members were inducted in 1986.\n\n            A permanent display is in place at the front entrance to Kennedy Secondary School. \n\n            Honorees include not only Fergus Falls High School graduates and coaches. \n\nOther inductees represent the Fergus Falls Red Sox town baseball team\, Hillcrest and M State athletes and coaches\, trap shooters\, snowmobilers\, boxing club coaches\, barefoot water ski participants\, members of the sports media\, outstanding Otter fans and others.\n\n            Criteria for induction also includes good citizenship and the betterment of our nation through one's chosen profession.
X-ALT-DESC;FMTTYPE=text/html:<div>&nbsp\;&nbsp\;&nbsp\;&nbsp\;&nbsp\;&nbsp\;&nbsp\;&nbsp\;&nbsp\;&nbsp\;&nbsp\;&nbsp\;<span style="color:black\;">Chamber Sports Hall of Fame&nbsp\;to induct six new members</span><br />\n<br />\n<span style="color:black\;">&nbsp\;&nbsp\;&nbsp\;&nbsp\;&nbsp\;&nbsp\;&nbsp\;&nbsp\;&nbsp\;&nbsp\;&nbsp\; The Fergus Falls Area Chamber of Commerce Sports Hall of Fame will honor six new inductees at 1 p.m. on Saturday\, July 31\, at the Pebble Lake Golf Course clubhouse. The event is open to the public.</span><br />\n<span style="color:black\;">&nbsp\;&nbsp\;&nbsp\;&nbsp\;&nbsp\;&nbsp\;&nbsp\;&nbsp\;&nbsp\;&nbsp\;&nbsp\; Four awards were held over from 2020 due to the pandemic and two individuals have been selected for 2021.</span><br />\n<span style="color:black\;">&nbsp\;&nbsp\;&nbsp\;&nbsp\;&nbsp\;&nbsp\;&nbsp\;&nbsp\;&nbsp\;&nbsp\;&nbsp\; Inductees for 2020 include former Fergus Falls Otter athletes Gordy Kvern\, class of 1960\; Mark Toso\, class of 1975\; Cathy Cranston\, class of 1976 and Larry Eisinger who was instrumental in organizing youth soccer programs in Fergus Falls. </span><br />\n<span style="color:black\;">&nbsp\;&nbsp\;&nbsp\;&nbsp\;&nbsp\;&nbsp\;&nbsp\;&nbsp\;&nbsp\;&nbsp\;&nbsp\; The inductees for 2021 are Tom Glorvigen\, FFHS athlete and class of 1960\, and Matt Morstad\, Otter athlete and FFHS class of 1995.</span><br />\n<span style="color:black\;">&nbsp\;&nbsp\;&nbsp\;&nbsp\;&nbsp\;&nbsp\;&nbsp\;&nbsp\;&nbsp\;&nbsp\;&nbsp\; This brings to 95 the total number of inductees into the Chamber Sports Hall of Fame. Charter members were inducted in 1986.</span><br />\n<span style="color:black\;">&nbsp\;&nbsp\;&nbsp\;&nbsp\;&nbsp\;&nbsp\;&nbsp\;&nbsp\;&nbsp\;&nbsp\;&nbsp\; A permanent display is in place at the front entrance to Kennedy Secondary School. </span><br />\n<span style="color:black\;">&nbsp\;&nbsp\;&nbsp\;&nbsp\;&nbsp\;&nbsp\;&nbsp\;&nbsp\;&nbsp\;&nbsp\;&nbsp\; Honorees include not only Fergus Falls High School graduates and coaches. </span><br />\n<span style="color:black\;">Other inductees represent the Fergus Falls Red Sox town baseball team\, Hillcrest and M State athletes and coaches\, trap shooters\, snowmobilers\, boxing club coaches\, barefoot water ski participants\, members of the sports media\, outstanding Otter fans and others.</span><br />\n<span style="color:black\;">&nbsp\;&nbsp\;&nbsp\;&nbsp\;&nbsp\;&nbsp\;&nbsp\;&nbsp\;&nbsp\;&nbsp\;&nbsp\; Criteria for induction also includes good citizenship and the betterment of our nation through one&rsquo\;s chosen profession.</span></div>\n
LOCATION:Pebble Lake Golf Course Clubhouse
UID:e.314.63331
SEQUENCE:3
DTSTAMP:20260421T112504Z
URL:https://business.fergusfalls.com/events/details/chamber-sports-hall-of-fame-63331
END:VEVENT

END:VCALENDAR
