BEGIN:VCALENDAR
VERSION:2.0
PRODID:-//ChamberMaster//Event Calendar 2.0//EN
METHOD:PUBLISH
X-PUBLISHED-TTL:P3D
REFRESH-INTERVAL:P3D
CALSCALE:GREGORIAN
BEGIN:VEVENT
DTSTART:20160420T183000Z
DTEND:20160420T193000Z
X-MICROSOFT-CDO-ALLDAYEVENT:FALSE
SUMMARY:Chamber "SuperHero Scramble" Golf Committee Meeting
DESCRIPTION:Engage your super powers and help plan our annual golf scramble.
X-ALT-DESC;FMTTYPE=text/html:Engage your super powers and help plan our annual golf scramble.
LOCATION:Pebble Lake Golf Club\, Tavern 59
UID:e.314.32627
SEQUENCE:3
DTSTAMP:20260425T163551Z
URL:https://business.fergusfalls.com/events/details/chamber-superhero-scramble-golf-committee-meeting-04-20-2016-32627
END:VEVENT

END:VCALENDAR
