BEGIN:VCALENDAR
VERSION:2.0
PRODID:-//ChamberMaster//Event Calendar 2.0//EN
METHOD:PUBLISH
X-PUBLISHED-TTL:P3D
REFRESH-INTERVAL:P3D
CALSCALE:GREGORIAN
BEGIN:VEVENT
DTSTART:20151202T210000Z
DTEND:20151202T220000Z
X-MICROSOFT-CDO-ALLDAYEVENT:FALSE
SUMMARY:Chamber Workforce Committee Meeting
DESCRIPTION:Chamber Members: Are you interested in working to create solutions for our members' workforce issues? Join the Chamber Workforce Committee's first planning meeting. All Chamber member representatives welcome.
X-ALT-DESC;FMTTYPE=text/html:Chamber Members: Are you interested in working to create solutions for our members&#39\; workforce issues? Join the Chamber Workforce Committee&#39\;s first planning meeting. All Chamber member representatives welcome.<br />\n&nbsp\;
LOCATION:West Central Initiative 1000 Western Ave. Fergus Falls\, MN
UID:e.314.27355
SEQUENCE:3
DTSTAMP:20260425T232804Z
URL:https://business.fergusfalls.com/events/details/chamber-workforce-committee-meeting-12-02-2015-27355
END:VEVENT

END:VCALENDAR
