BEGIN:VCALENDAR
VERSION:2.0
PRODID:-//ChamberMaster//Event Calendar 2.0//EN
METHOD:PUBLISH
X-PUBLISHED-TTL:P3D
REFRESH-INTERVAL:P3D
CALSCALE:GREGORIAN
BEGIN:VEVENT
DTSTART:20161207T200000Z
DTEND:20161207T210000Z
X-MICROSOFT-CDO-ALLDAYEVENT:FALSE
SUMMARY:Chamber Workforce Committee Meeting
DESCRIPTION:Chamber Workforce Committee Meeting\n\nAgenda to include:\n\n"Emerging Leader" program with M State\n\nYoung Professionals Network (YPN) update
X-ALT-DESC;FMTTYPE=text/html:Chamber Workforce Committee Meeting<br />\nAgenda to include:<br />\n&quot\;Emerging Leader&quot\; program with M State<br />\nYoung Professionals Network (YPN) update
LOCATION:Gate City Bank 428 W. Lincoln Ave. Fergus Falls\, MN
UID:e.314.36969
SEQUENCE:3
DTSTAMP:20260425T021914Z
URL:https://business.fergusfalls.com/events/details/chamber-workforce-committee-meeting-36969
END:VEVENT

END:VCALENDAR
