BEGIN:VCALENDAR
VERSION:2.0
PRODID:-//ChamberMaster//Event Calendar 2.0//EN
METHOD:PUBLISH
X-PUBLISHED-TTL:P3D
REFRESH-INTERVAL:P3D
CALSCALE:GREGORIAN
BEGIN:VEVENT
DTSTART:20191022T161500Z
DTEND:20191022T180000Z
X-MICROSOFT-CDO-ALLDAYEVENT:FALSE
SUMMARY:Chasing the Clouds Away - Addressing Mental Health & Resilience in our Youth
DESCRIPTION:Conversations That Matter\n\nAddressing Mental Health and Resilience in Our Youth\n\nExpert Panel Members:\n\nNancy Jost\, West Central Initiative\n\nColleen Kennedy\, Lakeland Mental Health\n\nModerator:\n\nJeff Drake\, Fergus Falls Superintendent of Schools\n\nTable Exercise with Thrive Initiative Coordinators:\n\nJason Bergstrand & Natalie Knutson
X-ALT-DESC;FMTTYPE=text/html:Conversations That Matter<br />\nAddressing Mental Health and Resilience in Our Youth<br />\nExpert Panel Members:<br />\nNancy Jost\, West Central Initiative<br />\nColleen Kennedy\, Lakeland Mental Health<br />\nModerator:<br />\nJeff Drake\, Fergus Falls Superintendent of Schools<br />\nTable Exercise with Thrive Initiative Coordinators:<br />\nJason Bergstrand &amp\; Natalie Knutson<br />\n&nbsp\;
LOCATION:Grace United Methodist Church 1100 Friberg Ave. Fergus Falls\, MN
UID:e.314.54779
SEQUENCE:3
DTSTAMP:20260422T204426Z
URL:https://business.fergusfalls.com/events/details/chasing-the-clouds-away-addressing-mental-health-resilience-in-our-youth-54779
END:VEVENT

END:VCALENDAR
