BEGIN:VCALENDAR
VERSION:2.0
PRODID:-//ChamberMaster//Event Calendar 2.0//EN
METHOD:PUBLISH
X-PUBLISHED-TTL:P3D
REFRESH-INTERVAL:P3D
CALSCALE:GREGORIAN
BEGIN:VEVENT
DTSTART:20170317T170000Z
DTEND:20170331T170000Z
X-MICROSOFT-CDO-ALLDAYEVENT:FALSE
SUMMARY:Cheer on the Twins
DESCRIPTION:Attention Supporters! \n\nCheer on the Twins & help raise funds for the American Cancer Society! \n\n \n\n \n\nSaturday\, April 22\, 2017 @ 1:10 PM \n\n\n\n \n\n \n\nEach ticket holder may take part in a pre-game parade on the field and \n\none lucky Relay For Life participant will get to throw a first pitch! \n\nCost: $18 or $24 per person \n\n($5 per ticket supports the American Cancer Society) \n\nDEADLINE \n\n \n\nto Purchase tickets is: Friday\, March 31\, 2017 \n\n*Please note ticket inventory is very limited and therefore tickets will be sold on a first come\, first serve basis\n\n \n\nCDI is turning the double play and matching each ticket \n\npurchased with an additional $5 donation.
X-ALT-DESC;FMTTYPE=text/html:<p align="LEFT">&nbsp\;</p>\n\n<p><b><font size="7">Attention Supporters! </font></b></p>\n\n<p><b><font size="5">Cheer on the Twins &amp\; help raise funds for the American Cancer Society! </font></b><br />\n&nbsp\;</p>\n\n<p align="LEFT">&nbsp\;</p>\n\n<p><b><font size="6">Saturday\, April 22\, 2017 @ 1:10 PM </font></b><br />\n<br />\n&nbsp\;</p>\n\n<p align="LEFT">&nbsp\;</p>\n\n<p><b><font size="3">Each ticket holder may take part in a pre-game parade on the field and </font></b></p>\n\n<p><b><font size="3">one lucky Relay For Life participant will get to throw a first pitch! </font></b></p>\n\n<p><b><font size="3">Cost: $18 or $24 per person </font></b></p>\n\n<p><b><font size="3">($5 per ticket supports the American Cancer Society) </font></b></p>\n\n<p><b><font size="3">DEADLINE </font></b></p>\n\n<p>&nbsp\;</p>\n\n<p><font face="Calibri\,Calibri" size="3"><font face="Calibri\,Calibri" size="3">to Purchase tickets is: </font></font><b><font size="2">Friday\, March 31\, 2017 </font></b></p>\n\n<p><b><font size="1">*Please note ticket inventory is very limited and therefore tickets will be sold on a first come\, first serve basis</font></b></p>\n\n<p>&nbsp\;</p>\n\n<p><b><font size="2">CDI is turning the double play and matching each ticket </font></b></p>\n\n<p><b><font size="2">purchased with an additional $5 donation. </font></b></p>\n
LOCATION:
UID:e.314.38913
SEQUENCE:3
DTSTAMP:20260424T205944Z
URL:https://business.fergusfalls.com/events/details/cheer-on-the-twins-38913
END:VEVENT

END:VCALENDAR
