BEGIN:VCALENDAR
VERSION:2.0
PRODID:-//ChamberMaster//Event Calendar 2.0//EN
METHOD:PUBLISH
X-PUBLISHED-TTL:P3D
REFRESH-INTERVAL:P3D
CALSCALE:GREGORIAN
BEGIN:VEVENT
DTSTART:20151030T163000Z
DTEND:20151030T190000Z
X-MICROSOFT-CDO-ALLDAYEVENT:FALSE
SUMMARY:Chili Cook Off! REMAX Signature Properties Host
DESCRIPTION:REMAX Signature Properties is hosting a Chili Cook - OFF!\n\n\n\nOct 30th\, 11:30-2 Stop by for a variety of homemade chillies\, refreshments\, home brewed pumpkin ale and good times!\n\n\n\nVotes will be for Over all Best Chilli\, Most Creative Chilli Name\,  and most unique recipe!\n\nContestants can enter by either contacting brittanywalters@remax.net or call 218-998-4663.  More information will be given at that time. \n\n\n\nSee you soon!
X-ALT-DESC;FMTTYPE=text/html:REMAX Signature Properties is hosting a Chili Cook - OFF!<br />\n<br />\nOct 30th\, 11:30-2 Stop by for a variety of homemade chillies\, refreshments\, home brewed pumpkin ale and good times!<br />\n<br />\nVotes will be for Over all Best Chilli\, Most Creative Chilli Name\,&nbsp\; and most unique recipe!<br />\nContestants can enter by either contacting <a href="mailto:brittanywalters@remax.net">brittanywalters@remax.net</a> or call 218-998-4663.&nbsp\; More information will be given at that time.&nbsp\;<br />\n<br />\nSee you soon!<br />\n&nbsp\;
LOCATION:REMAX Signature Properties 130 E. Lincoln Ave. Fergus Falls
UID:e.314.25082
SEQUENCE:3
DTSTAMP:20260426T030559Z
URL:https://business.fergusfalls.com/events/details/chili-cook-off-remax-signature-properties-host-10-30-2015-25082
END:VEVENT

END:VCALENDAR
