BEGIN:VCALENDAR
VERSION:2.0
PRODID:-//ChamberMaster//Event Calendar 2.0//EN
METHOD:PUBLISH
X-PUBLISHED-TTL:P3D
REFRESH-INTERVAL:P3D
CALSCALE:GREGORIAN
BEGIN:VEVENT
DTSTART:20160121T180000Z
DTEND:20160121T220000Z
X-MICROSOFT-CDO-ALLDAYEVENT:FALSE
SUMMARY:Chili Feed\, Silent Auction & Bake Sale - Spartans - M State
DESCRIPTION:M State Basketball and Baseball Chili Feed\, Silent Auction and Bake Sale! \n\n\n\nSaturday\, Jan 23 2016\n\n12:15-3 Chili Feed $5\n\n1:00 Women's Game\n\n3:00 Men's Game\n\n\n\nSilent Auction begins at 12:15 and will run through halftime of the men's basketball game.  Bake sale will run until all products are sold.  If you wish to donate a silent auction or bake sale item\, please contact Jake Erickson at 612-207-9040.
X-ALT-DESC;FMTTYPE=text/html:<span style="font-size: 20px\;"><strong>M State Basketball and Baseball Chili Feed\, Silent Auction and Bake Sale! </strong></span><br />\n<br />\n<span style="font-size: 18px\;"><strong>Saturday\, Jan 23 2016</strong></span><br />\n<strong>12:15-3 Chili Feed $5<br />\n1:00 Women&#39\;s Game<br />\n3:00 Men&#39\;s Game</strong><br />\n<br />\nSilent Auction begins at 12:15 and will run through halftime of the men&#39\;s basketball game.&nbsp\; Bake sale will run until all products are sold.&nbsp\; If you wish to donate a silent auction or bake sale item\, please contact Jake Erickson at 612-207-9040.
LOCATION:Minnesota State Community and Technical College 1414 College Way Fergus Falls
UID:e.314.30702
SEQUENCE:3
DTSTAMP:20260425T215623Z
URL:https://business.fergusfalls.com/events/details/chili-feed-silent-auction-bake-sale-spartans-m-state-01-21-2016-30702
END:VEVENT

END:VCALENDAR
