BEGIN:VCALENDAR
VERSION:2.0
PRODID:-//ChamberMaster//Event Calendar 2.0//EN
METHOD:PUBLISH
X-PUBLISHED-TTL:P3D
REFRESH-INTERVAL:P3D
CALSCALE:GREGORIAN
BEGIN:VEVENT
DTSTART:20191209T150000Z
DTEND:20191209T220000Z
X-MICROSOFT-CDO-ALLDAYEVENT:FALSE
SUMMARY:Christmas Bake Sale- Security State Bank
DESCRIPTION:Christmas Bake Sale\n\nWhen: Monday\, December 9th\n\n            9am - 4pm\n\nWhere: Security State Bank Lobby\n\n\n\n* Come in and get your favorite Christmas Goodies and Treats*\n\n\n\n~All Proceeds will benefit Relay for Life~
X-ALT-DESC;FMTTYPE=text/html:<span style="color: rgb(178\, 34\, 34)\;"><strong><span style="font-size: 18px\;">Christmas Bake Sale</span></strong></span><br />\n<span style="color: rgb(105\, 105\, 105)\;">When:</span><span style="color: rgb(178\, 34\, 34)\;"> Monday\, December 9th<br />\n&nbsp\;&nbsp\;&nbsp\;&nbsp\;&nbsp\;&nbsp\;&nbsp\;&nbsp\;&nbsp\;&nbsp\;&nbsp\;&nbsp\;9am - 4pm</span><br />\n<span style="color: rgb(105\, 105\, 105)\;">Where:</span><span style="color: rgb(178\, 34\, 34)\;"> Security State Bank Lobby</span><br />\n<br />\n* Come in and get your favorite Christmas Goodies and Treats*<br />\n<br />\n<span style="color: rgb(178\, 34\, 34)\;">~All Proceeds will benefit Relay for Life~</span>
LOCATION:Security State Bank Lobby 128 E. Washington Ave. Fergus Falls\, MN 56537
UID:e.314.55916
SEQUENCE:3
DTSTAMP:20260422T172115Z
URL:https://business.fergusfalls.com/events/details/christmas-bake-sale-security-state-bank-55916
END:VEVENT

END:VCALENDAR
