BEGIN:VCALENDAR
VERSION:2.0
PRODID:-//ChamberMaster//Event Calendar 2.0//EN
METHOD:PUBLISH
X-PUBLISHED-TTL:P3D
REFRESH-INTERVAL:P3D
CALSCALE:GREGORIAN
BEGIN:VEVENT
DTSTART:20161203T220000Z
DTEND:20161204T010000Z
X-MICROSOFT-CDO-ALLDAYEVENT:FALSE
SUMMARY:Christmas Cantata
DESCRIPTION:Tis the season for music and celebration as Christmas draws near. The Federated Church is performing "Go Sing It on the Mountain" on Saturday\, December 3rd at 4:00 p.m. The cantata features the Federated Church choir\, a community orchestra and organist Carol Andstrom. "Go Sing It on the Mountain" is written by Pepper Choplin. Choplin's distinctive folk-infused musical style is particularly well-suited to capture the story of Christ\, born in a lowly manger for our salvation. The performance concludes with the singing of Handel's "Hallelujah Chorus" and those in the audience will be invited to join the choir.\n\n\n\nListeners will be treated to a highly-inventive mixture of mountain melodies\, folk hymns\, spirituals\, familiar carols\, and original music that is sure to surprise and delight. "Go Sing It on the Mountain" proclaims the good news of Jesus' birth\, with a few featured singers and orchestra nicely complementing the SATB chorus.\n\n\n\nThere will be refreshments served after the performance. There is no charge to attend.
X-ALT-DESC;FMTTYPE=text/html:Tis the season for music and celebration as Christmas draws near. The Federated Church is performing &ldquo\;Go Sing It on the Mountain&rdquo\; on Saturday\, December 3rd at 4:00 p.m. The cantata features the Federated Church choir\, a community orchestra and organist Carol Andstrom. &ldquo\;Go Sing It on the Mountain&rdquo\; is written by Pepper Choplin. Choplin&rsquo\;s distinctive folk-infused musical style is particularly well-suited to capture the story of Christ\, born in a lowly manger for our salvation. The performance concludes with the singing of Handel&rsquo\;s &ldquo\;Hallelujah Chorus&rdquo\; and those in the audience will be invited to join the choir.<br />\n<br />\nListeners will be treated to a highly-inventive mixture of mountain melodies\, folk hymns\, spirituals\, familiar carols\, and original music that is sure to surprise and delight. &ldquo\;Go Sing It on the Mountain&rdquo\; proclaims the good news of Jesus&rsquo\; birth\, with a few featured singers and orchestra nicely complementing the SATB chorus.<br />\n<br />\nThere will be refreshments served after the performance. There is no charge to attend.
LOCATION:The Federated Church 224 N Union Ave Fergus Falls
UID:e.314.36998
SEQUENCE:3
DTSTAMP:20260425T034614Z
URL:https://business.fergusfalls.com/events/details/christmas-cantata-36998
END:VEVENT

END:VCALENDAR
