BEGIN:VCALENDAR
VERSION:2.0
PRODID:-//ChamberMaster//Event Calendar 2.0//EN
METHOD:PUBLISH
X-PUBLISHED-TTL:P3D
REFRESH-INTERVAL:P3D
CALSCALE:GREGORIAN
BEGIN:VEVENT
DTSTART:20181223T200000Z
DTEND:20181223T220000Z
X-MICROSOFT-CDO-ALLDAYEVENT:FALSE
SUMMARY:Christmas Carol Sing-along
DESCRIPTION:Christmas Caroling for a great cause! Everyone is invited to join us Dec 23rd from 2-4pm at Union Pizza. We will raise funds through a free will offering for the Federated Church Youth Mission Trip. They will travel to the House of Hope orphanage in Zacapa\, Guatemala in February.\n\nCoffee and desserts are on the house. Beer\, wine and pop will be available for purchase. Sorry! No pizza or other food will be available (the kitchen will be closed)
X-ALT-DESC;FMTTYPE=text/html:<div class="_63ew" data-testid="event-permalink-details"><span>Christmas Caroling for a great cause! Everyone is invited to join us Dec 23rd from 2-4pm at Union Pizza. We will raise funds through a free will offering for the Federated Church Youth Mission Trip. They will travel to the House of Hope orphanage in Zacapa\, Guatemala in February.<br />\nCoffee and desserts are on the house. Beer\, wine and pop will be available for purchase. Sorry! No pizza or other food will be available (the kitchen will be closed)</span></div>\n
LOCATION:Union Pizza & Brewing CO. 114 S Union Ave\, Fergus Falls\, Minnesota 56537
UID:e.314.52186
SEQUENCE:3
DTSTAMP:20260423T122056Z
URL:https://business.fergusfalls.com/events/details/christmas-carol-sing-along-52186
END:VEVENT

END:VCALENDAR
