BEGIN:VCALENDAR
VERSION:2.0
PRODID:-//ChamberMaster//Event Calendar 2.0//EN
METHOD:PUBLISH
X-PUBLISHED-TTL:P3D
REFRESH-INTERVAL:P3D
CALSCALE:GREGORIAN
BEGIN:VEVENT
DTSTART:20161224T173000Z
DTEND:20161224T193000Z
X-MICROSOFT-CDO-ALLDAYEVENT:FALSE
SUMMARY:CHRISTMAS EVE OPEN FAMILY SKATE
DESCRIPTION:CHRISTMAS EVE OPEN FAMILY SKATE\n\nSaturday\, December 24\n\n11:30 am - 1:30 pm\n\nAt the Fergus Falls Community Arena\n\nSponsored by City of Fergus Falls and Viking Cafe\n\nHot cider & cookies will be served until gone\n\n"Free Will" donation can be made to\n\nthe Park & Recreation Scholarship Fund\n\nNo Skate Sharpening Available that Day\n\nViking vs. Packers Game will be on the TV in the lobby\n\nBring your skates and enjoy the Christmas music!
X-ALT-DESC;FMTTYPE=text/html:<strong>CHRISTMAS EVE OPEN FAMILY SKATE<br />\nSaturday\, December 24<br />\n11:30 am - 1:30 pm</strong><br />\nAt the Fergus Falls Community Arena<br />\nSponsored by City of Fergus Falls and Viking Cafe<br />\nHot cider &amp\; cookies will be served until gone<br />\n&quot\;Free Will&quot\; donation can be made to<br />\nthe Park &amp\; Recreation Scholarship Fund<br />\nNo Skate Sharpening Available that Day<br />\nViking vs. Packers Game will be on the TV in the lobby<br />\nBring your skates and enjoy the Christmas music!<br />\n
LOCATION:Fergus Falls Community Arena 340 Friberg Ave\, Fergus Falls
UID:e.314.37227
SEQUENCE:3
DTSTAMP:20260425T040057Z
URL:https://business.fergusfalls.com/events/details/christmas-eve-open-family-skate-37227
END:VEVENT

END:VCALENDAR
