BEGIN:VCALENDAR
VERSION:2.0
PRODID:-//ChamberMaster//Event Calendar 2.0//EN
METHOD:PUBLISH
X-PUBLISHED-TTL:P3D
REFRESH-INTERVAL:P3D
CALSCALE:GREGORIAN
BEGIN:VEVENT
DTSTART:20191224T220000Z
DTEND:20191224T230000Z
X-MICROSOFT-CDO-ALLDAYEVENT:FALSE
SUMMARY:Christmas Eve Service
DESCRIPTION:There's a seat for you at Kennedy Secondary School if you're looking for a place to celebrate Christmas Eve. This is a casual environment where everyone's welcome.
X-ALT-DESC;FMTTYPE=text/html:There&#39\;s a seat for you at Kennedy Secondary School if you&#39\;re looking for a place to celebrate Christmas Eve. This is a casual environment where everyone&#39\;s welcome.
LOCATION:601 Randolph Ave. Fergus Falls\, MN
UID:e.314.56015
SEQUENCE:3
DTSTAMP:20260422T172147Z
URL:https://business.fergusfalls.com/events/details/christmas-eve-service-12-24-2019-56015
END:VEVENT

END:VCALENDAR
