BEGIN:VCALENDAR
VERSION:2.0
PRODID:-//ChamberMaster//Event Calendar 2.0//EN
METHOD:PUBLISH
X-PUBLISHED-TTL:P3D
REFRESH-INTERVAL:P3D
CALSCALE:GREGORIAN
BEGIN:VEVENT
DTSTART:20161224T220000Z
DTEND:20161224T230000Z
X-MICROSOFT-CDO-ALLDAYEVENT:FALSE
SUMMARY:Christmas Eve Service
DESCRIPTION:The NAZ Christmas Eve Service\n\nKennedy Secondary School\n\nDecember 24th @ 4pm
X-ALT-DESC;FMTTYPE=text/html:The NAZ Christmas Eve Service<br />\nKennedy Secondary School<br />\nDecember 24th @ 4pm<br />\n&nbsp\;
LOCATION:
UID:e.314.37252
SEQUENCE:3
DTSTAMP:20260425T021915Z
URL:https://business.fergusfalls.com/events/details/christmas-eve-service-37252
END:VEVENT

END:VCALENDAR
