BEGIN:VCALENDAR
VERSION:2.0
PRODID:-//ChamberMaster//Event Calendar 2.0//EN
METHOD:PUBLISH
X-PUBLISHED-TTL:P3D
REFRESH-INTERVAL:P3D
CALSCALE:GREGORIAN
BEGIN:VEVENT
DTSTART:20161224T163000Z
DTEND:20161224T223000Z
X-MICROSOFT-CDO-ALLDAYEVENT:FALSE
SUMMARY:Christmas Eve Service - A Light Dawning on our Darkness
DESCRIPTION:NOTE: There is a second Christmas Eve service at 4:30 PM at Bethel's Fergus Falls Campus.\n\n\n\nBethel will be celebrating Christmas through the words of Luke 2\, "Do not be afraid. I bring you good news that will cause great joy for all the people. Today in the town of David a Savior has been born to you\; he is the Messiah\, the Lord" (Luke 2:10-11\, NIV).\n\n\n\nFear Not!\n\nWhat does this good news mean for us?\n\n\n\nCome celebrate the birth and life of Jesus with Bethel on Christmas Eve.
X-ALT-DESC;FMTTYPE=text/html:<strong><span style="color: rgb(136\, 136\, 136)\; text-transform: none\; text-indent: 0px\; letter-spacing: normal\; font-family: Oswald\, Arial\; font-size: 18.66px\; font-style: normal\; font-weight: 300\; word-spacing: 0px\; float: none\; display: inline !important\; white-space: normal\; orphans: 2\; widows: 2\; background-color: rgba(255\, 255\, 255\, 0.74902)\; font-variant-ligatures: normal\; font-variant-caps: normal\; -webkit-text-stroke-width: 0px\;">NOTE: There is a second Christmas Eve service at 4:30 PM at Bethel&#39\;s Fergus Falls Campus.</span></strong><br style="color: rgb(136\, 136\, 136)\; text-transform: none\; text-indent: 0px\; letter-spacing: normal\; font-family: Oswald\, Arial\; font-size: 18.66px\; font-style: normal\; font-weight: 300\; word-spacing: 0px\; white-space: normal\; box-sizing: border-box\; orphans: 2\; widows: 2\; backface-visibility: hidden\; background-color: rgba(255\, 255\, 255\, 0.74902)\; -webkit-tap-highlight-color: rgba(0\, 0\, 0\, 0)\; font-variant-ligatures: normal\; font-variant-caps: normal\; -webkit-text-stroke-width: 0px\;" />\n<br style="color: rgb(136\, 136\, 136)\; text-transform: none\; text-indent: 0px\; letter-spacing: normal\; font-family: Oswald\, Arial\; font-size: 18.66px\; font-style: normal\; font-weight: 300\; word-spacing: 0px\; white-space: normal\; box-sizing: border-box\; orphans: 2\; widows: 2\; backface-visibility: hidden\; background-color: rgba(255\, 255\, 255\, 0.74902)\; -webkit-tap-highlight-color: rgba(0\, 0\, 0\, 0)\; font-variant-ligatures: normal\; font-variant-caps: normal\; -webkit-text-stroke-width: 0px\;" />\n<span style="color: rgb(136\, 136\, 136)\; text-transform: none\; text-indent: 0px\; letter-spacing: normal\; font-family: Oswald\, Arial\; font-size: 18.66px\; font-style: normal\; font-weight: 300\; word-spacing: 0px\; float: none\; display: inline !important\; white-space: normal\; orphans: 2\; widows: 2\; background-color: rgba(255\, 255\, 255\, 0.74902)\; font-variant-ligatures: normal\; font-variant-caps: normal\; -webkit-text-stroke-width: 0px\;">Bethel will be celebrating Christmas through the words of Luke 2\, &ldquo\;Do not be afraid. I bring you good news that will cause great joy for all the people. Today in the town of David a Savior has been born to you\; he is the Messiah\, the Lord&rdquo\; (Luke 2:10-11\, NIV).</span><br style="color: rgb(136\, 136\, 136)\; text-transform: none\; text-indent: 0px\; letter-spacing: normal\; font-family: Oswald\, Arial\; font-size: 18.66px\; font-style: normal\; font-weight: 300\; word-spacing: 0px\; white-space: normal\; box-sizing: border-box\; orphans: 2\; widows: 2\; backface-visibility: hidden\; background-color: rgba(255\, 255\, 255\, 0.74902)\; -webkit-tap-highlight-color: rgba(0\, 0\, 0\, 0)\; font-variant-ligatures: normal\; font-variant-caps: normal\; -webkit-text-stroke-width: 0px\;" />\n<br style="color: rgb(136\, 136\, 136)\; text-transform: none\; text-indent: 0px\; letter-spacing: normal\; font-family: Oswald\, Arial\; font-size: 18.66px\; font-style: normal\; font-weight: 300\; word-spacing: 0px\; white-space: normal\; box-sizing: border-box\; orphans: 2\; widows: 2\; backface-visibility: hidden\; background-color: rgba(255\, 255\, 255\, 0.74902)\; -webkit-tap-highlight-color: rgba(0\, 0\, 0\, 0)\; font-variant-ligatures: normal\; font-variant-caps: normal\; -webkit-text-stroke-width: 0px\;" />\n<span style="color: rgb(136\, 136\, 136)\; text-transform: none\; text-indent: 0px\; letter-spacing: normal\; font-family: Oswald\, Arial\; font-size: 18.66px\; font-style: normal\; font-weight: 300\; word-spacing: 0px\; float: none\; display: inline !important\; white-space: normal\; orphans: 2\; widows: 2\; background-color: rgba(255\, 255\, 255\, 0.74902)\; font-variant-ligatures: normal\; font-variant-caps: normal\; -webkit-text-stroke-width: 0px\;">Fear Not!</span><br style="color: rgb(136\, 136\, 136)\; text-transform: none\; text-indent: 0px\; letter-spacing: normal\; font-family: Oswald\, Arial\; font-size: 18.66px\; font-style: normal\; font-weight: 300\; word-spacing: 0px\; white-space: normal\; box-sizing: border-box\; orphans: 2\; widows: 2\; backface-visibility: hidden\; background-color: rgba(255\, 255\, 255\, 0.74902)\; -webkit-tap-highlight-color: rgba(0\, 0\, 0\, 0)\; font-variant-ligatures: normal\; font-variant-caps: normal\; -webkit-text-stroke-width: 0px\;" />\n<span style="color: rgb(136\, 136\, 136)\; text-transform: none\; text-indent: 0px\; letter-spacing: normal\; font-family: Oswald\, Arial\; font-size: 18.66px\; font-style: normal\; font-weight: 300\; word-spacing: 0px\; float: none\; display: inline !important\; white-space: normal\; orphans: 2\; widows: 2\; background-color: rgba(255\, 255\, 255\, 0.74902)\; font-variant-ligatures: normal\; font-variant-caps: normal\; -webkit-text-stroke-width: 0px\;">What does this good news mean for us?</span><br style="color: rgb(136\, 136\, 136)\; text-transform: none\; text-indent: 0px\; letter-spacing: normal\; font-family: Oswald\, Arial\; font-size: 18.66px\; font-style: normal\; font-weight: 300\; word-spacing: 0px\; white-space: normal\; box-sizing: border-box\; orphans: 2\; widows: 2\; backface-visibility: hidden\; background-color: rgba(255\, 255\, 255\, 0.74902)\; -webkit-tap-highlight-color: rgba(0\, 0\, 0\, 0)\; font-variant-ligatures: normal\; font-variant-caps: normal\; -webkit-text-stroke-width: 0px\;" />\n<br style="color: rgb(136\, 136\, 136)\; text-transform: none\; text-indent: 0px\; letter-spacing: normal\; font-family: Oswald\, Arial\; font-size: 18.66px\; font-style: normal\; font-weight: 300\; word-spacing: 0px\; white-space: normal\; box-sizing: border-box\; orphans: 2\; widows: 2\; backface-visibility: hidden\; background-color: rgba(255\, 255\, 255\, 0.74902)\; -webkit-tap-highlight-color: rgba(0\, 0\, 0\, 0)\; font-variant-ligatures: normal\; font-variant-caps: normal\; -webkit-text-stroke-width: 0px\;" />\n<span style="color: rgb(136\, 136\, 136)\; text-transform: none\; text-indent: 0px\; letter-spacing: normal\; font-family: Oswald\, Arial\; font-size: 18.66px\; font-style: normal\; font-weight: 300\; word-spacing: 0px\; float: none\; display: inline !important\; white-space: normal\; orphans: 2\; widows: 2\; background-color: rgba(255\, 255\, 255\, 0.74902)\; font-variant-ligatures: normal\; font-variant-caps: normal\; -webkit-text-stroke-width: 0px\;">Come celebrate the birth and life of Jesus with Bethel on Christmas Eve.</span>
LOCATION:702 W Alcott Ave\, Fergus Falls
UID:e.314.37257
SEQUENCE:3
DTSTAMP:20260425T022405Z
URL:https://business.fergusfalls.com/events/details/christmas-eve-service-a-light-dawning-on-our-darkness-37257
END:VEVENT

END:VCALENDAR
