BEGIN:VCALENDAR
VERSION:2.0
PRODID:-//ChamberMaster//Event Calendar 2.0//EN
METHOD:PUBLISH
X-PUBLISHED-TTL:P3D
REFRESH-INTERVAL:P3D
CALSCALE:GREGORIAN
BEGIN:VEVENT
DTSTART:20191224T230000Z
DTEND:20191225T050000Z
X-MICROSOFT-CDO-ALLDAYEVENT:FALSE
SUMMARY:Christmas Eve Services at Federated Church
DESCRIPTION:5:00pm ABCs of Christmas: An Interactive Service\n\n11:00pm Candlelight and Communion Service \n\n\n\nAll are welcome!
X-ALT-DESC;FMTTYPE=text/html:5:00pm ABCs of Christmas: An Interactive Service<br />\n11:00pm Candlelight and Communion Service&nbsp\;<br />\n<br />\nAll are welcome!&nbsp\;
LOCATION:The Federated Church 224 North Union Ave. Fergus Falls\, MN 56537
UID:e.314.56017
SEQUENCE:3
DTSTAMP:20260422T173706Z
URL:https://business.fergusfalls.com/events/details/christmas-eve-services-at-federated-church-12-18-2019-56017
END:VEVENT

END:VCALENDAR
