BEGIN:VCALENDAR
VERSION:2.0
PRODID:-//ChamberMaster//Event Calendar 2.0//EN
METHOD:PUBLISH
X-PUBLISHED-TTL:P3D
REFRESH-INTERVAL:P3D
CALSCALE:GREGORIAN
BEGIN:VEVENT
DTSTART;VALUE=DATE:20191224
DTEND;VALUE=DATE:20191225
TRANSP:TRANSPARENT
X-MICROSOFT-CDO-ALLDAYEVENT:TRUE
SUMMARY:Christmas Eve Services at Federated Church
DESCRIPTION:5pm ABCs of Christmas: An Interactive Service\n\n6pm Potluck Supper\n\n11pm Candlelight and Communion Service
X-ALT-DESC;FMTTYPE=text/html:<div class="_63ew" data-testid="event-permalink-details"><span>5pm ABCs of Christmas: An Interactive Service<br />\n6pm Potluck Supper<br />\n11pm Candlelight and Communion Service </span></div>\n
LOCATION:
UID:e.314.56011
SEQUENCE:3
DTSTAMP:20260422T173205Z
URL:https://business.fergusfalls.com/events/details/christmas-eve-services-at-federated-church-56011
END:VEVENT

END:VCALENDAR
