BEGIN:VCALENDAR
VERSION:2.0
PRODID:-//ChamberMaster//Event Calendar 2.0//EN
METHOD:PUBLISH
X-PUBLISHED-TTL:P3D
REFRESH-INTERVAL:P3D
CALSCALE:GREGORIAN
BEGIN:VEVENT
DTSTART:20191224T170000Z
DTEND:20191224T174500Z
X-MICROSOFT-CDO-ALLDAYEVENT:FALSE
SUMMARY:Christmas Eve Services - Fergus Falls
DESCRIPTION:This Advent season we've been focusing on the Original Christmas Playlist. Did you know that the Bible records for us some of the first Christmas songs? You're invited to Bethel's Christmas Eve Services where we will celebrate the birth of the Savior behind these original Christmas songs.
X-ALT-DESC;FMTTYPE=text/html:<div class="_63ew" data-testid="event-permalink-details"><span>This Advent season we&#39\;ve been focusing on the Original Christmas Playlist. Did you know that the Bible records for us some of the first Christmas songs? You&#39\;re invited to Bethel&#39\;s Christmas Eve Services where we will celebrate the birth of the Savior behind these original Christmas songs.</span></div>\n
LOCATION:
UID:e.314.56014
SEQUENCE:3
DTSTAMP:20260422T185254Z
URL:https://business.fergusfalls.com/events/details/christmas-eve-services-fergus-falls-56014
END:VEVENT

END:VCALENDAR
