BEGIN:VCALENDAR
VERSION:2.0
PRODID:-//ChamberMaster//Event Calendar 2.0//EN
METHOD:PUBLISH
X-PUBLISHED-TTL:P3D
REFRESH-INTERVAL:P3D
CALSCALE:GREGORIAN
BEGIN:VEVENT
DTSTART:20161214T010000Z
DTEND:20161214T030000Z
X-MICROSOFT-CDO-ALLDAYEVENT:FALSE
SUMMARY:Christmas Karaoke At Mabel Murphy's
DESCRIPTION:Warm up your voices! A fun event for friends and family to show off your talents and get your dose of Christmas Cheer!\n\nAll ages are welcome! Mi..Mi..Mi.Mi..
X-ALT-DESC;FMTTYPE=text/html:Warm up your voices! A fun event for friends and family to show off your talents and get your dose of Christmas Cheer!<br />\nAll ages are welcome! Mi..Mi..Mi.Mi..
LOCATION:A Mabel Murphy's
UID:e.314.37220
SEQUENCE:3
DTSTAMP:20260425T021958Z
URL:https://business.fergusfalls.com/events/details/christmas-karaoke-at-mabel-murphy-s-37220
END:VEVENT

END:VCALENDAR
