BEGIN:VCALENDAR
VERSION:2.0
PRODID:-//ChamberMaster//Event Calendar 2.0//EN
METHOD:PUBLISH
X-PUBLISHED-TTL:P3D
REFRESH-INTERVAL:P3D
CALSCALE:GREGORIAN
BEGIN:VEVENT
DTSTART;VALUE=DATE:20161221
DTEND;VALUE=DATE:20161222
TRANSP:TRANSPARENT
X-MICROSOFT-CDO-ALLDAYEVENT:TRUE
SUMMARY:Christmas Music on 97.7FM
DESCRIPTION:Tune in to the newest station in Fergus Falls -- 97.7FM and enjoy Christmas music right through the holidays.\n\nDecember 26-27 -- Tribute to Prince\n\nfrom December 28 on: Contemporary Hit Music
X-ALT-DESC;FMTTYPE=text/html:Tune in to the newest station in Fergus Falls -- 97.7FM and enjoy Christmas music right through the holidays.<br />\nDecember 26-27 -- Tribute to Prince<br />\nfrom December 28 on: Contemporary Hit Music
LOCATION:97.7FM
UID:e.314.37233
SEQUENCE:3
DTSTAMP:20260425T035307Z
URL:https://business.fergusfalls.com/events/details/christmas-music-on-97-7fm-12-21-2016-37233
END:VEVENT

END:VCALENDAR
