BEGIN:VCALENDAR
VERSION:2.0
PRODID:-//ChamberMaster//Event Calendar 2.0//EN
METHOD:PUBLISH
X-PUBLISHED-TTL:P3D
REFRESH-INTERVAL:P3D
CALSCALE:GREGORIAN
BEGIN:VEVENT
DTSTART;VALUE=DATE:20190109
DTEND;VALUE=DATE:20190110
TRANSP:TRANSPARENT
X-MICROSOFT-CDO-ALLDAYEVENT:TRUE
SUMMARY:City Christmas Tree Pickup
DESCRIPTION:The city will also pick up Christmas trees from city boulevards on Wednesday January 9th\, 2019 (one week following New Year's Day). Wood trees must be placed on the boulevard by 6 am to be picked up by city staff. Residents can bring their tree to the landfill brush pile during normal business hours free of charge.\n\n\n\nThe Landfill is located at 2010 S Oak Street: https://goo.gl/maps/qXdRvLE7BL92).\n\nLandfill Hours: 8 am-5 pm on Monday-Friday.\n\n8 am-12 noon on Saturdays. Closed on Sundays.
X-ALT-DESC;FMTTYPE=text/html:The city will also pick up Christmas trees from city boulevards on Wednesday January 9th\, 2019 (one week following New Year&#39\;s Day). Wood trees must be placed on the boulevard by 6 am to be picked up by city staff. Residents can bring their tree to the landfill brush pile during normal business hours free of charge.<br />\n<br />\nThe Landfill is located at 2010 S Oak Street: <a data-ft="{&quot\;tn&quot\;:&quot\;-U&quot\;}" data-lynx-mode="hover" data-lynx-uri="https://l.facebook.com/l.php?u=https%3A%2F%2Fgoo.gl%2Fmaps%2FqXdRvLE7BL92&amp\;h=AT0WTk_YgqDn40QQqarBnukVAD6T7hQFHLjdENtiQ2vSCMljGvI_I6laVtTmALOKKfkEHb2C6QPP-lTgD5zUfJ6Rzw-pUDHIcnn2JBz8sN8NsbtAyY2NRfKgUwZPA4WuWYbnJcVpGqIbElFZ6tF8DQ" href="https://goo.gl/maps/qXdRvLE7BL92" rel="nofollow" target="_blank">https://goo.gl/maps/qXdRvLE7BL92</a>).<br />\nLandfill Hours: 8 am-5 pm on Monday-Friday.<br />\n8 am-12 noon on Saturdays. Closed on Sundays.<br />\n&nbsp\;
LOCATION:
UID:e.314.50613
SEQUENCE:3
DTSTAMP:20260423T105448Z
URL:https://business.fergusfalls.com/events/details/city-christmas-tree-pickup-50613
END:VEVENT

END:VCALENDAR
