BEGIN:VCALENDAR
VERSION:2.0
PRODID:-//ChamberMaster//Event Calendar 2.0//EN
METHOD:PUBLISH
X-PUBLISHED-TTL:P3D
REFRESH-INTERVAL:P3D
CALSCALE:GREGORIAN
BEGIN:VEVENT
DTSTART:20181008T170000Z
DTEND:20181012T180000Z
X-MICROSOFT-CDO-ALLDAYEVENT:FALSE
SUMMARY:City Council Candidate Forum
DESCRIPTION:Noon Kiwanis wants to help YOU be an informed voter. Hear from the candidates for City Council. All forums will take place in City Hall - in the City Council Chambers at noon. One ward will meet each day as follows: October 8-Ward 1 (Darren Appert\, Krista Hagberg) October 9-Ward 2 (Scott Kvame\, Scott Rachels) October 10-Ward 4 (Karoline Gustafson\, Rod Spidahl\, John Strauch) October 12-Ward 3 (Justin Arneson) The forums will be recorded and we will post links to those YouTube clips as soon as possible. We thank PEG Access for providing that service.
X-ALT-DESC;FMTTYPE=text/html:Noon Kiwanis wants to help YOU be an informed voter. Hear from the candidates for City Council. All forums will take place in City Hall - in the City Council Chambers at noon. One ward will meet each day as follows: October 8-Ward 1 (Darren Appert\, Krista Hagberg) October 9-Ward 2 (Scott Kvame\, Scott Rachels) October 10-Ward 4 (Karoline Gustafson\, Rod Spidahl\, John Strauch) October 12-Ward 3 (Justin Arneson) The forums will be recorded and we will post links to those YouTube clips as soon as possible. We thank PEG Access for providing that service.
LOCATION:City Hall - Council Chambers
UID:e.314.50375
SEQUENCE:3
DTSTAMP:20260423T150729Z
URL:https://business.fergusfalls.com/events/details/city-council-candidate-forum-50375
END:VEVENT

END:VCALENDAR
