BEGIN:VCALENDAR
VERSION:2.0
PRODID:-//ChamberMaster//Event Calendar 2.0//EN
METHOD:PUBLISH
X-PUBLISHED-TTL:P3D
REFRESH-INTERVAL:P3D
CALSCALE:GREGORIAN
BEGIN:VEVENT
DTSTART;VALUE=DATE:20181031
DTEND;VALUE=DATE:20181101
TRANSP:TRANSPARENT
X-MICROSOFT-CDO-ALLDAYEVENT:TRUE
SUMMARY:City Leaf Pick Up Day
DESCRIPTION:City Leaf Pick Up Date: October 31st\, 2018\n\nThe city will conduct a one day leaf pick-up on Wednesday October 31\, 2018. All leaves must be bagged and on the boulevard by 6 am to be picked up by city staff. Residents can bring their leaves to the landfill during normal business hours free of charge. If bagged leaves are brought to the landfill they must be removed from the bag at the disposal site.\n\nThe city asks that you do not rake your leaves out into the street as they clog... up the city's stormwater system. The Landfill is located at 2010 S Oak Street (https://goo.gl/maps/qXdRvLE7BL92). Landfill Hours: 8 am-5 pm on Monday-Friday. 8 am-12 noon on Saturdays. Closed on Sundays. \n\n\nThe city will also pick up Christmas trees from city boulevards on Wednesday January 9th\, 2019 (one week following New Year's Day). Wood trees must be placed on the boulevard by 6 am to be picked up by city staff. Residents can bring their tree to the landfill brush pile during normal business hours free of charge.\n\nSource: https://www.ci.fergus-falls.mn.us/index.asp \n\nand\n\nhttps://www.ci.fergus-falls.mn.us/index.asp
X-ALT-DESC;FMTTYPE=text/html:<div class="text_exposed_root text_exposed" id="id_5bc4a12bd91e37881743735">\n<p>City Leaf Pick Up Date: October 31st\, 2018</p>\n\n<p>The city will conduct a one day leaf pick-up on Wednesday October 31\, 2018. All leaves must be bagged and on the boulevard by 6 am to be picked up by city staff. Residents can bring their leaves to the landfill during normal business hours free of charge. If bagged leaves are brought to the landfill they must be removed from the bag at the disposal site.</p>\n\n<p>The city asks that you do not rake your leaves out into the street as they clog<span class="text_exposed_hide">...</span><span class="text_exposed_show"> up the city&rsquo\;s stormwater system. The Landfill is located at 2010 S Oak Street (<a data-ft="{&quot\;tn&quot\;:&quot\;-U&quot\;}" data-lynx-mode="hover" href="https://l.facebook.com/l.php?u=https%3A%2F%2Fgoo.gl%2Fmaps%2FqXdRvLE7BL92&amp\;h=AT0WTk_YgqDn40QQqarBnukVAD6T7hQFHLjdENtiQ2vSCMljGvI_I6laVtTmALOKKfkEHb2C6QPP-lTgD5zUfJ6Rzw-pUDHIcnn2JBz8sN8NsbtAyY2NRfKgUwZPA4WuWYbnJcVpGqIbElFZ6tF8DQ" rel="nofollow" target="_blank">https://goo.gl/maps/qXdRvLE7BL92</a>). Landfill Hours: 8 am-5 pm on Monday-Friday. 8 am-12 noon on Saturdays. Closed on Sundays. </span></p>\n\n<div class="text_exposed_show">\n<p>The city will also pick up Christmas trees from city boulevards on Wednesday January 9th\, 2019 (one week following New Year&#39\;s Day). Wood trees must be placed on the boulevard by 6 am to be picked up by city staff. Residents can bring their tree to the landfill brush pile during normal business hours free of charge.</p>\n\n<p>Source: <a data-ft="{&quot\;tn&quot\;:&quot\;-U&quot\;}" data-lynx-mode="hover" href="https://l.facebook.com/l.php?u=https%3A%2F%2Fwww.ci.fergus-falls.mn.us%2Findex.asp%3FSEC%3DF6C4BE6B-77AB-4FB4-8E6E-68E95D772892%26DE%3D81C2962D-9EF1-4312-BC91-6B2F4F179A56%26Type%3DB_PR&amp\;h=AT22GHXZ2S-2lw7TAZG_4Jee1m0W8z2KFUjFW94lugFTaBHbuirsp_1S3gUY7579u_bJKFPFfOCDT7i1vq_xnGOzGrsB3IYX9FsXo-UC4WtLcxakzOLQ6uHAiykJHV4LGVTRxq0bsIde13R9ykciDA" rel="nofollow" target="_blank">https://www.ci.fergus-falls.mn.us/index.asp&hellip\;</a><br />\nand<br />\n<a data-ft="{&quot\;tn&quot\;:&quot\;-U&quot\;}" data-lynx-mode="hover" href="https://l.facebook.com/l.php?u=https%3A%2F%2Fwww.ci.fergus-falls.mn.us%2Findex.asp%3FSEC%3DB489259B-C27A-43CB-A4FF-EAB0D241F3E6%26DE%3D9F710B14-18E0-4D64-91F0-C539D5F33BC5%26Type%3DB_BASIC&amp\;h=AT10fH0C20-pPdU8LvVFaJeeXuUgmZOdJZncpLXASIY4fDy2zzon7JhUcDFVrSgw5BnFJqU8Lq_WQMN8EIV4U3yb2TcRUbFKI3DQbEI84LCyGNRuhWOnGg2umM-oVVRjXTaOA-1tmd3bsGnI1sCFyw" rel="nofollow" target="_blank">https://www.ci.fergus-falls.mn.us/index.asp&hellip\;</a></p>\n</div>\n</div>\n
LOCATION:
UID:e.314.50612
SEQUENCE:3
DTSTAMP:20260423T150734Z
URL:https://business.fergusfalls.com/events/details/city-leaf-pick-up-day-50612
END:VEVENT

END:VCALENDAR
