BEGIN:VCALENDAR
VERSION:2.0
PRODID:-//ChamberMaster//Event Calendar 2.0//EN
METHOD:PUBLISH
X-PUBLISHED-TTL:P3D
REFRESH-INTERVAL:P3D
CALSCALE:GREGORIAN
BEGIN:VEVENT
DTSTART;VALUE=DATE:20160505
DTEND;VALUE=DATE:20160508
TRANSP:TRANSPARENT
X-MICROSOFT-CDO-ALLDAYEVENT:TRUE
SUMMARY:"City-Wide Rummage Sale"
DESCRIPTION:Fergus Falls\n\n"City-Wide Rummage Sale"\n\nThurs. - Fri. - Sat. \n\nMay 5 - 6 - 7
X-ALT-DESC;FMTTYPE=text/html:<span style="font-size: 18px\;"><span style="color: rgb(0\, 0\, 255)\;"><strong>Fergus Falls<br />\n&quot\;City-Wide Rummage Sale&quot\;</strong></span></span><br />\n<span style="color: rgb(0\, 0\, 0)\;"><span style="font-size: 14px\;"><strong>Thurs. - Fri. - Sat. </strong></span></span><br />\n<span style="color: rgb(0\, 0\, 255)\;"><strong>May 5 - 6 - 7</strong></span>
LOCATION:
UID:e.314.32381
SEQUENCE:3
DTSTAMP:20260425T145824Z
URL:https://business.fergusfalls.com/events/details/city-wide-rummage-sale-05-05-2016-32381
END:VEVENT

END:VCALENDAR
