BEGIN:VCALENDAR
VERSION:2.0
PRODID:-//ChamberMaster//Event Calendar 2.0//EN
METHOD:PUBLISH
X-PUBLISHED-TTL:P3D
REFRESH-INTERVAL:P3D
CALSCALE:GREGORIAN
BEGIN:VEVENT
DTSTART:20171006T230000Z
DTEND:20171007T050000Z
X-MICROSOFT-CDO-ALLDAYEVENT:FALSE
SUMMARY:Class of 1977 40 Year Reunion
DESCRIPTION:The Class of 1977 will be holding their 40th Class Reunion October 6 and 7 (Homecoming Weekend).
X-ALT-DESC;FMTTYPE=text/html:<span style="color: rgb(0\, 0\, 0)\; font-family: liberation-sans-1\,liberation-sans-2\,sans-serif\; font-size: 14px\; background-color: rgba(234\, 234\, 234\, 0.7)\;">The Class of 1977 will be holding their 40th Class Reunion October 6 and 7 (Homecoming Weekend).</span>
LOCATION:
UID:e.314.40952
SEQUENCE:3
DTSTAMP:20260424T105700Z
URL:https://business.fergusfalls.com/events/details/class-of-1977-40-year-reunion-40952
END:VEVENT

END:VCALENDAR
