BEGIN:VCALENDAR
VERSION:2.0
PRODID:-//ChamberMaster//Event Calendar 2.0//EN
METHOD:PUBLISH
X-PUBLISHED-TTL:P3D
REFRESH-INTERVAL:P3D
CALSCALE:GREGORIAN
BEGIN:VEVENT
DTSTART:20160610T230000Z
DTEND:20160611T040000Z
X-MICROSOFT-CDO-ALLDAYEVENT:FALSE
SUMMARY:Class of '56 Class Reunion
DESCRIPTION:Class reunion for Fergus Falls Class of 1956. Dinner held at the Eagles in Fergus Falls. Social hour begins at 6:00 and dinner is served at 7:00pm.
X-ALT-DESC;FMTTYPE=text/html:Class reunion for Fergus Falls Class of 1956. Dinner held at the Eagles in Fergus Falls. Social hour begins at 6:00 and dinner is served at 7:00pm.
LOCATION:Eagles
UID:e.314.31678
SEQUENCE:3
DTSTAMP:20260425T145538Z
URL:https://business.fergusfalls.com/events/details/class-of-56-class-reunion-06-10-2016-31678
END:VEVENT

END:VCALENDAR
